BEGIN:VCALENDAR
VERSION:2.0
PRODID:-//TJ Slavoj Plzeň - ECPv6.15.20//NONSGML v1.0//EN
CALSCALE:GREGORIAN
METHOD:PUBLISH
X-WR-CALNAME:TJ Slavoj Plzeň
X-ORIGINAL-URL:http://tjslavojplzen.cz
X-WR-CALDESC:Akce na TJ Slavoj Plzeň
REFRESH-INTERVAL;VALUE=DURATION:PT1H
X-Robots-Tag:noindex
X-PUBLISHED-TTL:PT1H
BEGIN:VTIMEZONE
TZID:Europe/Prague
BEGIN:DAYLIGHT
TZOFFSETFROM:+0100
TZOFFSETTO:+0200
TZNAME:CEST
DTSTART:20220327T010000
END:DAYLIGHT
BEGIN:STANDARD
TZOFFSETFROM:+0200
TZOFFSETTO:+0100
TZNAME:CET
DTSTART:20221030T010000
END:STANDARD
BEGIN:DAYLIGHT
TZOFFSETFROM:+0100
TZOFFSETTO:+0200
TZNAME:CEST
DTSTART:20230326T010000
END:DAYLIGHT
BEGIN:STANDARD
TZOFFSETFROM:+0200
TZOFFSETTO:+0100
TZNAME:CET
DTSTART:20231029T010000
END:STANDARD
BEGIN:DAYLIGHT
TZOFFSETFROM:+0100
TZOFFSETTO:+0200
TZNAME:CEST
DTSTART:20240331T010000
END:DAYLIGHT
BEGIN:STANDARD
TZOFFSETFROM:+0200
TZOFFSETTO:+0100
TZNAME:CET
DTSTART:20241027T010000
END:STANDARD
END:VTIMEZONE
BEGIN:VEVENT
DTSTART;TZID=Europe/Prague:20231125T190000
DTEND;TZID=Europe/Prague:20231125T235000
DTSTAMP:20260423T004955
CREATED:20231018T070834Z
LAST-MODIFIED:20231018T070950Z
UID:1139-1700938800-1700956200@tjslavojplzen.cz
SUMMARY:Zouk academy /tělocvična/
DESCRIPTION:tanec
URL:http://tjslavojplzen.cz/event/zouk-academy-t/
END:VEVENT
BEGIN:VEVENT
DTSTART;TZID=Europe/Prague:20231125T100000
DTEND;TZID=Europe/Prague:20231125T160000
DTSTAMP:20260423T004955
CREATED:20230803T054847Z
LAST-MODIFIED:20231123T103412Z
UID:921-1700906400-1700928000@tjslavojplzen.cz
SUMMARY:Přehlídka pohybových skladeb /hala + tělocvična/
DESCRIPTION:Přehlídka pohybových skladeb KASPV /hala\, tělocvična/
URL:http://tjslavojplzen.cz/event/prehlidka-pohybovych-skladeb/
END:VEVENT
BEGIN:VEVENT
DTSTART;TZID=Europe/Prague:20231119T090000
DTEND;TZID=Europe/Prague:20231119T140000
DTSTAMP:20260423T004955
CREATED:20230919T094711Z
LAST-MODIFIED:20230921T055828Z
UID:1078-1700384400-1700402400@tjslavojplzen.cz
SUMMARY:Basketbal Grizzlies Plzeň /hala/
DESCRIPTION:
URL:http://tjslavojplzen.cz/event/basketbal-grizzlies-plzen-7/
END:VEVENT
BEGIN:VEVENT
DTSTART;TZID=Europe/Prague:20231118T090000
DTEND;TZID=Europe/Prague:20231118T120000
DTSTAMP:20260423T004955
CREATED:20230919T094651Z
LAST-MODIFIED:20230921T055844Z
UID:1076-1700298000-1700308800@tjslavojplzen.cz
SUMMARY:Basketbal Grizzlies Plzeň /hala/
DESCRIPTION:
URL:http://tjslavojplzen.cz/event/basketbal-grizzlies-plzen-6/
END:VEVENT
BEGIN:VEVENT
DTSTART;TZID=Europe/Prague:20231112T140000
DTEND;TZID=Europe/Prague:20231112T170000
DTSTAMP:20260423T004955
CREATED:20231110T103443Z
LAST-MODIFIED:20231110T103526Z
UID:1205-1699797600-1699808400@tjslavojplzen.cz
SUMMARY:Basketbal /hala/
DESCRIPTION:
URL:http://tjslavojplzen.cz/event/basketbal-hala-2/
END:VEVENT
BEGIN:VEVENT
DTSTART;TZID=Europe/Prague:20231111T080000
DTEND;TZID=Europe/Prague:20231111T150000
DTSTAMP:20260423T004955
CREATED:20231011T071012Z
LAST-MODIFIED:20231110T103520Z
UID:1131-1699689600-1699714800@tjslavojplzen.cz
SUMMARY:Florbal hasiči /hala/
DESCRIPTION:
URL:http://tjslavojplzen.cz/event/florbal-hasici/
END:VEVENT
BEGIN:VEVENT
DTSTART;TZID=Europe/Prague:20231105T080000
DTEND;TZID=Europe/Prague:20231105T170000
DTSTAMP:20260423T004955
CREATED:20230306T103349Z
LAST-MODIFIED:20230306T103349Z
UID:238-1699171200-1699203600@tjslavojplzen.cz
SUMMARY:Narama - karate /hala/
DESCRIPTION:
URL:http://tjslavojplzen.cz/event/narama-karate-hala-4/
END:VEVENT
BEGIN:VEVENT
DTSTART;TZID=Europe/Prague:20231104T080000
DTEND;TZID=Europe/Prague:20231104T170000
DTSTAMP:20260423T004955
CREATED:20230306T103322Z
LAST-MODIFIED:20230306T103322Z
UID:236-1699084800-1699117200@tjslavojplzen.cz
SUMMARY:Moderní gymnastika /hala + tělocvična/
DESCRIPTION:
URL:http://tjslavojplzen.cz/event/moderni-gymnastika-hala-telocvicna-3/
END:VEVENT
BEGIN:VEVENT
DTSTART;TZID=Europe/Prague:20231022T080000
DTEND;TZID=Europe/Prague:20231022T170000
DTSTAMP:20260423T004955
CREATED:20230322T065227Z
LAST-MODIFIED:20230828T091648Z
UID:518-1697961600-1697994000@tjslavojplzen.cz
SUMMARY:RG Cup /hala + tělocvična/
DESCRIPTION:Pohárová soutěž v moderní gymnastice ve společných skladbách a 2/3. Pořádá domácí oddíl MG.
URL:http://tjslavojplzen.cz/event/advent-cup/
END:VEVENT
BEGIN:VEVENT
DTSTART;TZID=Europe/Prague:20231021T080000
DTEND;TZID=Europe/Prague:20231021T170000
DTSTAMP:20260423T004955
CREATED:20230306T103252Z
LAST-MODIFIED:20230306T103252Z
UID:234-1697875200-1697907600@tjslavojplzen.cz
SUMMARY:Moderní gymnastika /hala + tělocvična/
DESCRIPTION:
URL:http://tjslavojplzen.cz/event/moderni-gymnastika-hala-telocvicna-2/
END:VEVENT
BEGIN:VEVENT
DTSTART;TZID=Europe/Prague:20231015T090000
DTEND;TZID=Europe/Prague:20231015T120000
DTSTAMP:20260423T004955
CREATED:20230919T094630Z
LAST-MODIFIED:20230919T094802Z
UID:1074-1697360400-1697371200@tjslavojplzen.cz
SUMMARY:Basketbal Grizzlies Plzeň  /hala/
DESCRIPTION:
URL:http://tjslavojplzen.cz/event/basketbal-grizzlies-plzen-5/
END:VEVENT
BEGIN:VEVENT
DTSTART;TZID=Europe/Prague:20231014T190000
DTEND;TZID=Europe/Prague:20231014T220000
DTSTAMP:20260423T004955
CREATED:20231010T090707Z
LAST-MODIFIED:20231010T090738Z
UID:1124-1697310000-1697320800@tjslavojplzen.cz
SUMMARY:Basketbal Calog /hala/
DESCRIPTION:
URL:http://tjslavojplzen.cz/event/basketbal-6/
END:VEVENT
BEGIN:VEVENT
DTSTART;TZID=Europe/Prague:20231014T140000
DTEND;TZID=Europe/Prague:20231014T170000
DTSTAMP:20260423T004955
CREATED:20230919T094609Z
LAST-MODIFIED:20231005T120000Z
UID:1072-1697292000-1697302800@tjslavojplzen.cz
SUMMARY:Basketbal Grizzlies Plzeň  /hala/
DESCRIPTION:
URL:http://tjslavojplzen.cz/event/basketbal-grizzlies-plzen-4/
END:VEVENT
BEGIN:VEVENT
DTSTART;TZID=Europe/Prague:20231008T080000
DTEND;TZID=Europe/Prague:20231008T170000
DTSTAMP:20260423T004955
CREATED:20230306T103219Z
LAST-MODIFIED:20230306T103219Z
UID:232-1696752000-1696784400@tjslavojplzen.cz
SUMMARY:Narama - karate /hala/
DESCRIPTION:
URL:http://tjslavojplzen.cz/event/narama-karate-hala-3/
END:VEVENT
BEGIN:VEVENT
DTSTART;TZID=Europe/Prague:20231007T170000
DTEND;TZID=Europe/Prague:20231007T193000
DTSTAMP:20260423T004955
CREATED:20230906T052703Z
LAST-MODIFIED:20230906T052703Z
UID:1023-1696698000-1696707000@tjslavojplzen.cz
SUMMARY:Basketbal TJ Slavoj /hala/
DESCRIPTION:
URL:http://tjslavojplzen.cz/event/basketbal-tj-slavoj-hala/
END:VEVENT
BEGIN:VEVENT
DTSTART;TZID=Europe/Prague:20231001T090000
DTEND;TZID=Europe/Prague:20231001T140000
DTSTAMP:20260423T004955
CREATED:20230919T094538Z
LAST-MODIFIED:20230919T094538Z
UID:1070-1696150800-1696168800@tjslavojplzen.cz
SUMMARY:Basketbal Grizzlies Plzeň
DESCRIPTION:
URL:http://tjslavojplzen.cz/event/basketbal-grizzlies-plzen-3/
END:VEVENT
BEGIN:VEVENT
DTSTART;TZID=Europe/Prague:20230930T090000
DTEND;TZID=Europe/Prague:20230930T140000
DTSTAMP:20260423T004955
CREATED:20230919T094516Z
LAST-MODIFIED:20230919T094812Z
UID:1068-1696064400-1696082400@tjslavojplzen.cz
SUMMARY:Basketbal Grizzlies Plzeň  /hala/
DESCRIPTION:
URL:http://tjslavojplzen.cz/event/basketbal-grizzlies-plzen-2/
END:VEVENT
BEGIN:VEVENT
DTSTART;TZID=Europe/Prague:20230928T080000
DTEND;TZID=Europe/Prague:20230928T200000
DTSTAMP:20260423T004955
CREATED:20230920T053038Z
LAST-MODIFIED:20230920T053038Z
UID:1091-1695888000-1695931200@tjslavojplzen.cz
SUMMARY:Pohár mladých nadějí /kuželna/
DESCRIPTION:Tradiční pohár České kuželkářské asociace.
URL:http://tjslavojplzen.cz/event/pohar-mladych-nadeji-kuzelna/
END:VEVENT
BEGIN:VEVENT
DTSTART;TZID=Europe/Prague:20230924T180000
DTEND;TZID=Europe/Prague:20230924T210000
DTSTAMP:20260423T004955
CREATED:20230919T094447Z
LAST-MODIFIED:20230919T094816Z
UID:1066-1695578400-1695589200@tjslavojplzen.cz
SUMMARY:Basketbal Grizzlies Plzeň  /hala/
DESCRIPTION:
URL:http://tjslavojplzen.cz/event/basketbal-grizzlies-plzen/
END:VEVENT
BEGIN:VEVENT
DTSTART;TZID=Europe/Prague:20230923T130000
DTEND;TZID=Europe/Prague:20230923T200000
DTSTAMP:20260423T004955
CREATED:20230905T075827Z
LAST-MODIFIED:20230906T052840Z
UID:1015-1695474000-1695499200@tjslavojplzen.cz
SUMMARY:Basketbal DBAK /hala/
DESCRIPTION:
URL:http://tjslavojplzen.cz/event/basketbal-5/
END:VEVENT
BEGIN:VEVENT
DTSTART;TZID=Europe/Prague:20230910T090000
DTEND;TZID=Europe/Prague:20230910T120000
DTSTAMP:20260423T004955
CREATED:20230906T052619Z
LAST-MODIFIED:20230906T052619Z
UID:1021-1694336400-1694347200@tjslavojplzen.cz
SUMMARY:basketbal /hala/
DESCRIPTION:
URL:http://tjslavojplzen.cz/event/basketbal-hala/
END:VEVENT
BEGIN:VEVENT
DTSTART;VALUE=DATE:20230901
DTEND;VALUE=DATE:20230904
DTSTAMP:20260423T004955
CREATED:20230517T112705Z
LAST-MODIFIED:20230919T094826Z
UID:722-1693526400-1693785599@tjslavojplzen.cz
SUMMARY:Seminář Aikido  /hala/
DESCRIPTION:Mezinárodní seminář AIKIDO  – Ichiro Shishiya Shihan\, 7. Dan aikido
URL:http://tjslavojplzen.cz/event/seminar-aikido/
END:VEVENT
BEGIN:VEVENT
DTSTART;TZID=Europe/Prague:20230618T120000
DTEND;TZID=Europe/Prague:20230618T180000
DTSTAMP:20260423T004955
CREATED:20230306T103140Z
LAST-MODIFIED:20230306T103629Z
UID:230-1687089600-1687111200@tjslavojplzen.cz
SUMMARY:Fit Dance Art /hala/
DESCRIPTION:
URL:http://tjslavojplzen.cz/event/fit-dance-art/
END:VEVENT
BEGIN:VEVENT
DTSTART;TZID=Europe/Prague:20230610T090000
DTEND;TZID=Europe/Prague:20230610T130000
DTSTAMP:20260423T004955
CREATED:20230306T103109Z
LAST-MODIFIED:20230306T103639Z
UID:228-1686387600-1686402000@tjslavojplzen.cz
SUMMARY:JA Studio /hala/
DESCRIPTION:
URL:http://tjslavojplzen.cz/event/ja-studio/
END:VEVENT
BEGIN:VEVENT
DTSTART;TZID=Europe/Prague:20230604T080000
DTEND;TZID=Europe/Prague:20230604T170000
DTSTAMP:20260423T004955
CREATED:20230306T103030Z
LAST-MODIFIED:20230306T103030Z
UID:226-1685865600-1685898000@tjslavojplzen.cz
SUMMARY:Narama - karate /hala/
DESCRIPTION:
URL:http://tjslavojplzen.cz/event/narama-karate-hala-2/
END:VEVENT
BEGIN:VEVENT
DTSTART;TZID=Europe/Prague:20230603T080000
DTEND;TZID=Europe/Prague:20230603T170000
DTSTAMP:20260423T004955
CREATED:20230306T103007Z
LAST-MODIFIED:20230306T103007Z
UID:224-1685779200-1685811600@tjslavojplzen.cz
SUMMARY:Moderní gymnastika /hala + tělocvična/
DESCRIPTION:
URL:http://tjslavojplzen.cz/event/moderni-gymnastika-hala-telocvicna/
END:VEVENT
BEGIN:VEVENT
DTSTART;TZID=Europe/Prague:20230521T080000
DTEND;TZID=Europe/Prague:20230521T170000
DTSTAMP:20260423T004955
CREATED:20230315T093002Z
LAST-MODIFIED:20230315T093041Z
UID:488-1684656000-1684688400@tjslavojplzen.cz
SUMMARY:Vzpírání - II. liga žen /hala/
DESCRIPTION:
URL:http://tjslavojplzen.cz/event/vzpirani-ii-liga-zen/
END:VEVENT
BEGIN:VEVENT
DTSTART;TZID=Europe/Prague:20230520T080000
DTEND;TZID=Europe/Prague:20230520T170000
DTSTAMP:20260423T004955
CREATED:20230306T102938Z
LAST-MODIFIED:20230306T102938Z
UID:222-1684569600-1684602000@tjslavojplzen.cz
SUMMARY:Vzpírání  - II. liga /hala/
DESCRIPTION:
URL:http://tjslavojplzen.cz/event/vzpirani-ii-liga-hala/
END:VEVENT
BEGIN:VEVENT
DTSTART;TZID=Europe/Prague:20230514T100000
DTEND;TZID=Europe/Prague:20230514T123000
DTSTAMP:20260423T004955
CREATED:20230510T045620Z
LAST-MODIFIED:20230510T045707Z
UID:703-1684058400-1684067400@tjslavojplzen.cz
SUMMARY:Nedělní tréning MG /tělocvična/
DESCRIPTION:
URL:http://tjslavojplzen.cz/event/nedelni-trening-mg-t/
END:VEVENT
BEGIN:VEVENT
DTSTART;TZID=Europe/Prague:20230514T080000
DTEND;TZID=Europe/Prague:20230514T170000
DTSTAMP:20260423T004955
CREATED:20230306T102912Z
LAST-MODIFIED:20230306T102912Z
UID:220-1684051200-1684083600@tjslavojplzen.cz
SUMMARY:Narama - karate /hala/
DESCRIPTION:
URL:http://tjslavojplzen.cz/event/narama-karate-hala/
END:VEVENT
END:VCALENDAR