BEGIN:VCALENDAR
VERSION:2.0
PRODID:-//TJ Slavoj Plzeň - ECPv6.15.20//NONSGML v1.0//EN
CALSCALE:GREGORIAN
METHOD:PUBLISH
X-ORIGINAL-URL:http://tjslavojplzen.cz
X-WR-CALDESC:Akce na TJ Slavoj Plzeň
REFRESH-INTERVAL;VALUE=DURATION:PT1H
X-Robots-Tag:noindex
X-PUBLISHED-TTL:PT1H
BEGIN:VTIMEZONE
TZID:Europe/Prague
BEGIN:DAYLIGHT
TZOFFSETFROM:+0100
TZOFFSETTO:+0200
TZNAME:CEST
DTSTART:20250330T010000
END:DAYLIGHT
BEGIN:STANDARD
TZOFFSETFROM:+0200
TZOFFSETTO:+0100
TZNAME:CET
DTSTART:20251026T010000
END:STANDARD
BEGIN:DAYLIGHT
TZOFFSETFROM:+0100
TZOFFSETTO:+0200
TZNAME:CEST
DTSTART:20260329T010000
END:DAYLIGHT
BEGIN:STANDARD
TZOFFSETFROM:+0200
TZOFFSETTO:+0100
TZNAME:CET
DTSTART:20261025T010000
END:STANDARD
BEGIN:DAYLIGHT
TZOFFSETFROM:+0100
TZOFFSETTO:+0200
TZNAME:CEST
DTSTART:20270328T010000
END:DAYLIGHT
BEGIN:STANDARD
TZOFFSETFROM:+0200
TZOFFSETTO:+0100
TZNAME:CET
DTSTART:20271031T010000
END:STANDARD
END:VTIMEZONE
BEGIN:VEVENT
DTSTART;VALUE=DATE:20260706
DTEND;VALUE=DATE:20260707
DTSTAMP:20260422T014154
CREATED:20260120T081506Z
LAST-MODIFIED:20260120T081506Z
UID:2572-1783296000-1783382399@tjslavojplzen.cz
SUMMARY:Příměstský tábor Moderní gymnastika /Hala/
DESCRIPTION:
URL:http://tjslavojplzen.cz/event/primestsky-tabor-moderni-gymnastika-hala/
END:VEVENT
BEGIN:VEVENT
DTSTART;VALUE=DATE:20260707
DTEND;VALUE=DATE:20260708
DTSTAMP:20260422T014154
CREATED:20260120T081539Z
LAST-MODIFIED:20260120T081539Z
UID:2574-1783382400-1783468799@tjslavojplzen.cz
SUMMARY:Příměstský tábor Moderní gymnastika /Hala/
DESCRIPTION:
URL:http://tjslavojplzen.cz/event/primestsky-tabor-moderni-gymnastika-hala-2/
END:VEVENT
BEGIN:VEVENT
DTSTART;VALUE=DATE:20260708
DTEND;VALUE=DATE:20260709
DTSTAMP:20260422T014154
CREATED:20260120T081631Z
LAST-MODIFIED:20260120T081631Z
UID:2576-1783468800-1783555199@tjslavojplzen.cz
SUMMARY:Příměstský tábor Moderní gymnastika /Hala/
DESCRIPTION:
URL:http://tjslavojplzen.cz/event/primestsky-tabor-moderni-gymnastika-hala-3/
END:VEVENT
BEGIN:VEVENT
DTSTART;VALUE=DATE:20260709
DTEND;VALUE=DATE:20260710
DTSTAMP:20260422T014154
CREATED:20260120T081647Z
LAST-MODIFIED:20260120T081647Z
UID:2578-1783555200-1783641599@tjslavojplzen.cz
SUMMARY:Příměstský tábor Moderní gymnastika /Hala/
DESCRIPTION:
URL:http://tjslavojplzen.cz/event/primestsky-tabor-moderni-gymnastika-hala-4/
END:VEVENT
BEGIN:VEVENT
DTSTART;VALUE=DATE:20260710
DTEND;VALUE=DATE:20260711
DTSTAMP:20260422T014154
CREATED:20260120T081702Z
LAST-MODIFIED:20260120T081702Z
UID:2580-1783641600-1783727999@tjslavojplzen.cz
SUMMARY:Příměstský tábor Moderní gymnastika /Hala/
DESCRIPTION:
URL:http://tjslavojplzen.cz/event/primestsky-tabor-moderni-gymnastika-hala-5/
END:VEVENT
BEGIN:VEVENT
DTSTART;TZID=Europe/Prague:20260713T080000
DTEND;TZID=Europe/Prague:20260713T170000
DTSTAMP:20260422T014154
CREATED:20251222T122408Z
LAST-MODIFIED:20251222T122408Z
UID:2535-1783929600-1783962000@tjslavojplzen.cz
SUMMARY:Taneční soustředění Victoria Talent Academy /tělocvična/
DESCRIPTION:
URL:http://tjslavojplzen.cz/event/tanecni-soustredeni-victoria-talent-academy-telocvicna-7/
END:VEVENT
BEGIN:VEVENT
DTSTART;TZID=Europe/Prague:20260714T080000
DTEND;TZID=Europe/Prague:20260714T170000
DTSTAMP:20260422T014154
CREATED:20251222T122423Z
LAST-MODIFIED:20251222T122423Z
UID:2537-1784016000-1784048400@tjslavojplzen.cz
SUMMARY:Taneční soustředění Victoria Talent Academy /tělocvična/
DESCRIPTION:
URL:http://tjslavojplzen.cz/event/tanecni-soustredeni-victoria-talent-academy-telocvicna-8/
END:VEVENT
BEGIN:VEVENT
DTSTART;TZID=Europe/Prague:20260715T080000
DTEND;TZID=Europe/Prague:20260715T170000
DTSTAMP:20260422T014154
CREATED:20251222T122439Z
LAST-MODIFIED:20251222T122439Z
UID:2539-1784102400-1784134800@tjslavojplzen.cz
SUMMARY:Taneční soustředění Victoria Talent Academy /tělocvična/
DESCRIPTION:
URL:http://tjslavojplzen.cz/event/tanecni-soustredeni-victoria-talent-academy-telocvicna-13/
END:VEVENT
BEGIN:VEVENT
DTSTART;TZID=Europe/Prague:20260716T080000
DTEND;TZID=Europe/Prague:20260716T170000
DTSTAMP:20260422T014154
CREATED:20251222T122452Z
LAST-MODIFIED:20251222T122452Z
UID:2541-1784188800-1784221200@tjslavojplzen.cz
SUMMARY:Taneční soustředění Victoria Talent Academy /tělocvična/
DESCRIPTION:
URL:http://tjslavojplzen.cz/event/tanecni-soustredeni-victoria-talent-academy-telocvicna-14/
END:VEVENT
BEGIN:VEVENT
DTSTART;TZID=Europe/Prague:20260717T080000
DTEND;TZID=Europe/Prague:20260717T170000
DTSTAMP:20260422T014154
CREATED:20251222T122511Z
LAST-MODIFIED:20251222T122511Z
UID:2543-1784275200-1784307600@tjslavojplzen.cz
SUMMARY:Taneční soustředění Victoria Talent Academy /tělocvična/
DESCRIPTION:
URL:http://tjslavojplzen.cz/event/tanecni-soustredeni-victoria-talent-academy-telocvicna-15/
END:VEVENT
BEGIN:VEVENT
DTSTART;TZID=Europe/Prague:20260725T080000
DTEND;TZID=Europe/Prague:20260801T160000
DTSTAMP:20260422T014154
CREATED:20260319T101820Z
LAST-MODIFIED:20260319T101820Z
UID:2682-1784966400-1785600000@tjslavojplzen.cz
SUMMARY:Kuželkářský kemp /kuželna + nocleh  v tělocvičně/
DESCRIPTION:
URL:http://tjslavojplzen.cz/event/kuzelkarsky-kemp-kuzelna-nocleh-v-telocvicne/
END:VEVENT
BEGIN:VEVENT
DTSTART;TZID=Europe/Prague:20260817T083000
DTEND;TZID=Europe/Prague:20260817T150000
DTSTAMP:20260422T014154
CREATED:20251008T084250Z
LAST-MODIFIED:20251008T084415Z
UID:2346-1786955400-1786978800@tjslavojplzen.cz
SUMMARY:Taneční soustředění Victoria Talent Academy /tělocvična/
DESCRIPTION:
URL:http://tjslavojplzen.cz/event/tanecni-soustredeni-victoria-talent-academy-telocvicna/
END:VEVENT
BEGIN:VEVENT
DTSTART;TZID=Europe/Prague:20260818T083000
DTEND;TZID=Europe/Prague:20260818T150000
DTSTAMP:20260422T014154
CREATED:20251008T084338Z
LAST-MODIFIED:20251008T084338Z
UID:2348-1787041800-1787065200@tjslavojplzen.cz
SUMMARY:Taneční soustředění Victoria Talent Academy /tělocvična/
DESCRIPTION:
URL:http://tjslavojplzen.cz/event/tanecni-soustredeni-victoria-talent-academy-telocvicna-2/
END:VEVENT
BEGIN:VEVENT
DTSTART;TZID=Europe/Prague:20260819T083000
DTEND;TZID=Europe/Prague:20260819T150000
DTSTAMP:20260422T014154
CREATED:20251008T084451Z
LAST-MODIFIED:20251008T084451Z
UID:2350-1787128200-1787151600@tjslavojplzen.cz
SUMMARY:Taneční soustředění Victoria Talent Academy /tělocvična/
DESCRIPTION:
URL:http://tjslavojplzen.cz/event/tanecni-soustredeni-victoria-talent-academy-telocvicna-3/
END:VEVENT
BEGIN:VEVENT
DTSTART;TZID=Europe/Prague:20260819T090000
DTEND;TZID=Europe/Prague:20260823T160000
DTSTAMP:20260422T014154
CREATED:20260225T081734Z
LAST-MODIFIED:20260225T081734Z
UID:2635-1787130000-1787500800@tjslavojplzen.cz
SUMMARY:Soustředění Moderní gymnastiky SK Rapid /Sportovní hala/
DESCRIPTION:
URL:http://tjslavojplzen.cz/event/soustredeni-moderni-gymnastiky-sk-rapid-sportovni-hala/
END:VEVENT
BEGIN:VEVENT
DTSTART;TZID=Europe/Prague:20260820T083000
DTEND;TZID=Europe/Prague:20260820T150000
DTSTAMP:20260422T014154
CREATED:20251008T084508Z
LAST-MODIFIED:20251008T084508Z
UID:2352-1787214600-1787238000@tjslavojplzen.cz
SUMMARY:Taneční soustředění Victoria Talent Academy /tělocvična/
DESCRIPTION:
URL:http://tjslavojplzen.cz/event/tanecni-soustredeni-victoria-talent-academy-telocvicna-4/
END:VEVENT
BEGIN:VEVENT
DTSTART;TZID=Europe/Prague:20260821T083000
DTEND;TZID=Europe/Prague:20260821T150000
DTSTAMP:20260422T014154
CREATED:20251008T084526Z
LAST-MODIFIED:20251008T084526Z
UID:2354-1787301000-1787324400@tjslavojplzen.cz
SUMMARY:Taneční soustředění Victoria Talent Academy /tělocvična/
DESCRIPTION:
URL:http://tjslavojplzen.cz/event/tanecni-soustredeni-victoria-talent-academy-telocvicna-5/
END:VEVENT
BEGIN:VEVENT
DTSTART;TZID=Europe/Prague:20260824T083000
DTEND;TZID=Europe/Prague:20260824T150000
DTSTAMP:20260422T014154
CREATED:20251008T084546Z
LAST-MODIFIED:20251008T084546Z
UID:2356-1787560200-1787583600@tjslavojplzen.cz
SUMMARY:Taneční soustředění Victoria Talent Academy /tělocvična/
DESCRIPTION:
URL:http://tjslavojplzen.cz/event/tanecni-soustredeni-victoria-talent-academy-telocvicna-6/
END:VEVENT
BEGIN:VEVENT
DTSTART;TZID=Europe/Prague:20260825T083000
DTEND;TZID=Europe/Prague:20260825T150000
DTSTAMP:20260422T014154
CREATED:20251008T084634Z
LAST-MODIFIED:20251008T084710Z
UID:2362-1787646600-1787670000@tjslavojplzen.cz
SUMMARY:Taneční soustředění Victoria Talent Academy /tělocvična/
DESCRIPTION:
URL:http://tjslavojplzen.cz/event/tanecni-soustredeni-victoria-talent-academy-telocvicna-9/
END:VEVENT
BEGIN:VEVENT
DTSTART;TZID=Europe/Prague:20260826T083000
DTEND;TZID=Europe/Prague:20260826T150000
DTSTAMP:20260422T014154
CREATED:20251008T084728Z
LAST-MODIFIED:20251008T084728Z
UID:2364-1787733000-1787756400@tjslavojplzen.cz
SUMMARY:Taneční soustředění Victoria Talent Academy /tělocvična/
DESCRIPTION:
URL:http://tjslavojplzen.cz/event/tanecni-soustredeni-victoria-talent-academy-telocvicna-10/
END:VEVENT
BEGIN:VEVENT
DTSTART;TZID=Europe/Prague:20260827T083000
DTEND;TZID=Europe/Prague:20260827T150000
DTSTAMP:20260422T014154
CREATED:20251008T084745Z
LAST-MODIFIED:20251008T084745Z
UID:2366-1787819400-1787842800@tjslavojplzen.cz
SUMMARY:Taneční soustředění Victoria Talent Academy /tělocvična/
DESCRIPTION:
URL:http://tjslavojplzen.cz/event/tanecni-soustredeni-victoria-talent-academy-telocvicna-11/
END:VEVENT
BEGIN:VEVENT
DTSTART;TZID=Europe/Prague:20260828T083000
DTEND;TZID=Europe/Prague:20260828T150000
DTSTAMP:20260422T014154
CREATED:20251008T084812Z
LAST-MODIFIED:20251008T084812Z
UID:2368-1787905800-1787929200@tjslavojplzen.cz
SUMMARY:Taneční soustředění Victoria Talent Academy /tělocvična/
DESCRIPTION:
URL:http://tjslavojplzen.cz/event/tanecni-soustredeni-victoria-talent-academy-telocvicna-12/
END:VEVENT
BEGIN:VEVENT
DTSTART;TZID=Europe/Prague:20260912T080000
DTEND;TZID=Europe/Prague:20260912T210000
DTSTAMP:20260422T014154
CREATED:20260112T063054Z
LAST-MODIFIED:20260326T070151Z
UID:2557-1789200000-1789246800@tjslavojplzen.cz
SUMMARY:Vzpírání - rezervace /hala/
DESCRIPTION:
URL:http://tjslavojplzen.cz/event/vzpirani-rezervace-hala/
END:VEVENT
BEGIN:VEVENT
DTSTART;TZID=Europe/Prague:20260920T130000
DTEND;TZID=Europe/Prague:20260920T190000
DTSTAMP:20260422T014154
CREATED:20260319T101637Z
LAST-MODIFIED:20260319T101643Z
UID:2680-1789909200-1789930800@tjslavojplzen.cz
SUMMARY:Zumba / sportovní hala/
DESCRIPTION:
URL:http://tjslavojplzen.cz/event/zumba-sportovni-hala/
END:VEVENT
BEGIN:VEVENT
DTSTART;TZID=Europe/Prague:20261004T080000
DTEND;TZID=Europe/Prague:20261004T160000
DTSTAMP:20260422T014154
CREATED:20250903T084646Z
LAST-MODIFIED:20250903T084646Z
UID:2283-1791100800-1791129600@tjslavojplzen.cz
SUMMARY:NARAMA  - karate /Hala/
DESCRIPTION:
URL:http://tjslavojplzen.cz/event/narama-karate-hala-8/
END:VEVENT
BEGIN:VEVENT
DTSTART;TZID=Europe/Prague:20261010T070000
DTEND;TZID=Europe/Prague:20261010T210000
DTSTAMP:20260422T014154
CREATED:20251120T070908Z
LAST-MODIFIED:20251120T071013Z
UID:2424-1791615600-1791666000@tjslavojplzen.cz
SUMMARY:Moderní gymnastika - závody /hala\, tělocvična\, zasedací místnost/
DESCRIPTION:
URL:http://tjslavojplzen.cz/event/moderni-gymnastika-zavody/
END:VEVENT
BEGIN:VEVENT
DTSTART;TZID=Europe/Prague:20261017T070000
DTEND;TZID=Europe/Prague:20261017T210000
DTSTAMP:20260422T014154
CREATED:20251118T070004Z
LAST-MODIFIED:20251120T071507Z
UID:2422-1792220400-1792270800@tjslavojplzen.cz
SUMMARY:Českomoravský pohár v moderní gymnastice /hala\, tělocvična/
DESCRIPTION:
URL:http://tjslavojplzen.cz/event/ceskomoravskeho-poharu-v-moderni-gymnastice-hala-telocvicna/
END:VEVENT
BEGIN:VEVENT
DTSTART;TZID=Europe/Prague:20261024T080000
DTEND;TZID=Europe/Prague:20261024T170000
DTSTAMP:20260422T014154
CREATED:20251222T122624Z
LAST-MODIFIED:20251222T122624Z
UID:2545-1792828800-1792861200@tjslavojplzen.cz
SUMMARY:Vzpírání /Hala/
DESCRIPTION:
URL:http://tjslavojplzen.cz/event/vzpirani-hala/
END:VEVENT
BEGIN:VEVENT
DTSTART;TZID=Europe/Prague:20261031T080000
DTEND;TZID=Europe/Prague:20261031T190000
DTSTAMP:20260422T014154
CREATED:20260219T065749Z
LAST-MODIFIED:20260219T065749Z
UID:2614-1793433600-1793473200@tjslavojplzen.cz
SUMMARY:RG Cup - závody v moderní gymnastice /hala\, tělocvična\, zasedací místnost/
DESCRIPTION:
URL:http://tjslavojplzen.cz/event/rg-cup-zavody-v-moderni-gymnastice-hala-telocvicna-zasedaci-mistnost/
END:VEVENT
BEGIN:VEVENT
DTSTART;TZID=Europe/Prague:20261108T080000
DTEND;TZID=Europe/Prague:20261108T160000
DTSTAMP:20260422T014154
CREATED:20250903T084705Z
LAST-MODIFIED:20250903T084705Z
UID:2285-1794124800-1794153600@tjslavojplzen.cz
SUMMARY:NARAMA  - karate /Hala/
DESCRIPTION:
URL:http://tjslavojplzen.cz/event/narama-karate-hala-9/
END:VEVENT
END:VCALENDAR