BEGIN:VCALENDAR
VERSION:2.0
PRODID:-//TJ Slavoj Plzeň - ECPv6.15.20//NONSGML v1.0//EN
CALSCALE:GREGORIAN
METHOD:PUBLISH
X-WR-CALNAME:TJ Slavoj Plzeň
X-ORIGINAL-URL:http://tjslavojplzen.cz
X-WR-CALDESC:Akce na TJ Slavoj Plzeň
REFRESH-INTERVAL;VALUE=DURATION:PT1H
X-Robots-Tag:noindex
X-PUBLISHED-TTL:PT1H
BEGIN:VTIMEZONE
TZID:Europe/Prague
BEGIN:DAYLIGHT
TZOFFSETFROM:+0100
TZOFFSETTO:+0200
TZNAME:CEST
DTSTART:20240331T010000
END:DAYLIGHT
BEGIN:STANDARD
TZOFFSETFROM:+0200
TZOFFSETTO:+0100
TZNAME:CET
DTSTART:20241027T010000
END:STANDARD
BEGIN:DAYLIGHT
TZOFFSETFROM:+0100
TZOFFSETTO:+0200
TZNAME:CEST
DTSTART:20250330T010000
END:DAYLIGHT
BEGIN:STANDARD
TZOFFSETFROM:+0200
TZOFFSETTO:+0100
TZNAME:CET
DTSTART:20251026T010000
END:STANDARD
BEGIN:DAYLIGHT
TZOFFSETFROM:+0100
TZOFFSETTO:+0200
TZNAME:CEST
DTSTART:20260329T010000
END:DAYLIGHT
BEGIN:STANDARD
TZOFFSETFROM:+0200
TZOFFSETTO:+0100
TZNAME:CET
DTSTART:20261025T010000
END:STANDARD
BEGIN:DAYLIGHT
TZOFFSETFROM:+0100
TZOFFSETTO:+0200
TZNAME:CEST
DTSTART:20270328T010000
END:DAYLIGHT
BEGIN:STANDARD
TZOFFSETFROM:+0200
TZOFFSETTO:+0100
TZNAME:CET
DTSTART:20271031T010000
END:STANDARD
END:VTIMEZONE
BEGIN:VEVENT
DTSTART;TZID=Europe/Prague:20251108T073000
DTEND;TZID=Europe/Prague:20251108T180000
DTSTAMP:20260423T003600
CREATED:20240904T050839Z
LAST-MODIFIED:20251120T071406Z
UID:1697-1762587000-1762624800@tjslavojplzen.cz
SUMMARY:PKO ČUS - MG  /hala\, tělocvična\, zasedací místnost/
DESCRIPTION:Oblastní přebor Západočeské oblasti ve společných skladbách a 2/3. \n 
URL:http://tjslavojplzen.cz/event/pko-cus-mg/
END:VEVENT
BEGIN:VEVENT
DTSTART;TZID=Europe/Prague:20251109T080000
DTEND;TZID=Europe/Prague:20251109T180000
DTSTAMP:20260423T003600
CREATED:20240919T081215Z
LAST-MODIFIED:20240919T081215Z
UID:1759-1762675200-1762711200@tjslavojplzen.cz
SUMMARY:Narama /hala/
DESCRIPTION:karate
URL:http://tjslavojplzen.cz/event/narama-hala-4/
END:VEVENT
BEGIN:VEVENT
DTSTART;TZID=Europe/Prague:20251115T080000
DTEND;TZID=Europe/Prague:20251117T170000
DTSTAMP:20260423T003600
CREATED:20250107T095541Z
LAST-MODIFIED:20250107T095541Z
UID:1927-1763193600-1763398800@tjslavojplzen.cz
SUMMARY:aikido - blokace hala
DESCRIPTION:
URL:http://tjslavojplzen.cz/event/aikido-blokace-hala/
END:VEVENT
BEGIN:VEVENT
DTSTART;TZID=Europe/Prague:20251122T080000
DTEND;TZID=Europe/Prague:20251122T170000
DTSTAMP:20260423T003600
CREATED:20250728T115114Z
LAST-MODIFIED:20251120T071349Z
UID:2210-1763798400-1763830800@tjslavojplzen.cz
SUMMARY:Pohybové skladby - KASPV /hala\, tělocvična/
DESCRIPTION:
URL:http://tjslavojplzen.cz/event/pohybove-skladby-kaspv-h-t/
END:VEVENT
BEGIN:VEVENT
DTSTART;TZID=Europe/Prague:20251129T080000
DTEND;TZID=Europe/Prague:20251129T120000
DTSTAMP:20260423T003600
CREATED:20250107T095455Z
LAST-MODIFIED:20251120T071336Z
UID:1925-1764403200-1764417600@tjslavojplzen.cz
SUMMARY:ASPV Plzeň město /hala/
DESCRIPTION:
URL:http://tjslavojplzen.cz/event/aspv-plzen-mesto-2/
END:VEVENT
BEGIN:VEVENT
DTSTART;TZID=Europe/Prague:20251206T130000
DTEND;TZID=Europe/Prague:20251206T190000
DTSTAMP:20260423T003600
CREATED:20250513T112500Z
LAST-MODIFIED:20251120T071313Z
UID:2159-1765026000-1765047600@tjslavojplzen.cz
SUMMARY:Florbalový den /hala/
DESCRIPTION:
URL:http://tjslavojplzen.cz/event/florbalovy-den/
END:VEVENT
BEGIN:VEVENT
DTSTART;TZID=Europe/Prague:20251207T080000
DTEND;TZID=Europe/Prague:20251207T140000
DTSTAMP:20260423T003600
CREATED:20240919T081240Z
LAST-MODIFIED:20251201T130955Z
UID:1761-1765094400-1765116000@tjslavojplzen.cz
SUMMARY:Narama /hala/
DESCRIPTION:karate
URL:http://tjslavojplzen.cz/event/narama-hala-5/
END:VEVENT
BEGIN:VEVENT
DTSTART;TZID=Europe/Prague:20251207T170000
DTEND;TZID=Europe/Prague:20251207T190000
DTSTAMP:20260423T003600
CREATED:20251201T130620Z
LAST-MODIFIED:20251201T130620Z
UID:2477-1765126800-1765134000@tjslavojplzen.cz
SUMMARY:Trénink - futsal /hala/
DESCRIPTION:
URL:http://tjslavojplzen.cz/event/trenink-futsal-hala/
END:VEVENT
BEGIN:VEVENT
DTSTART;TZID=Europe/Prague:20251213T080000
DTEND;TZID=Europe/Prague:20251213T170000
DTSTAMP:20260423T003600
CREATED:20250107T095642Z
LAST-MODIFIED:20250929T133218Z
UID:1929-1765612800-1765645200@tjslavojplzen.cz
SUMMARY:Grand Prix Slavoj Plzeň 1899 - vzpírání /hala/
DESCRIPTION:
URL:http://tjslavojplzen.cz/event/grand-prix-slavoj-plzen-1899-vzpirani/
END:VEVENT
BEGIN:VEVENT
DTSTART;TZID=Europe/Prague:20251213T093000
DTEND;TZID=Europe/Prague:20251213T173000
DTSTAMP:20260423T003600
CREATED:20251201T130531Z
LAST-MODIFIED:20251201T130531Z
UID:2475-1765618200-1765647000@tjslavojplzen.cz
SUMMARY:Moderní gymnastika - individuální / tělocvična/
DESCRIPTION:
URL:http://tjslavojplzen.cz/event/moderni-gymnastika-individualni-telocvicna/
END:VEVENT
BEGIN:VEVENT
DTSTART;TZID=Europe/Prague:20251214T080000
DTEND;TZID=Europe/Prague:20251214T130000
DTSTAMP:20260423T003600
CREATED:20250903T100232Z
LAST-MODIFIED:20251201T130404Z
UID:2293-1765699200-1765717200@tjslavojplzen.cz
SUMMARY:Sport Studio JA /hala/
DESCRIPTION:
URL:http://tjslavojplzen.cz/event/sport-studio-ja-3/
END:VEVENT
BEGIN:VEVENT
DTSTART;TZID=Europe/Prague:20251214T090000
DTEND;TZID=Europe/Prague:20251214T160000
DTSTAMP:20260423T003600
CREATED:20251201T131314Z
LAST-MODIFIED:20251201T131314Z
UID:2488-1765702800-1765728000@tjslavojplzen.cz
SUMMARY:Zápas /tělocvična/
DESCRIPTION:
URL:http://tjslavojplzen.cz/event/zapas-telocvicna/
END:VEVENT
BEGIN:VEVENT
DTSTART;TZID=Europe/Prague:20251214T170000
DTEND;TZID=Europe/Prague:20251214T190000
DTSTAMP:20260423T003600
CREATED:20251201T130651Z
LAST-MODIFIED:20251201T130651Z
UID:2479-1765731600-1765738800@tjslavojplzen.cz
SUMMARY:Trénink - futsal /hala/
DESCRIPTION:
URL:http://tjslavojplzen.cz/event/trenink-futsal-hala-2/
END:VEVENT
BEGIN:VEVENT
DTSTART;TZID=Europe/Prague:20251220T140000
DTEND;TZID=Europe/Prague:20251220T200000
DTSTAMP:20260423T003600
CREATED:20251008T083826Z
LAST-MODIFIED:20251120T071259Z
UID:2338-1766239200-1766260800@tjslavojplzen.cz
SUMMARY:Dance Nation /hala/
DESCRIPTION:
URL:http://tjslavojplzen.cz/event/dance-nation-2/
END:VEVENT
BEGIN:VEVENT
DTSTART;TZID=Europe/Prague:20251221T170000
DTEND;TZID=Europe/Prague:20251221T190000
DTSTAMP:20260423T003600
CREATED:20251201T130708Z
LAST-MODIFIED:20251201T130708Z
UID:2481-1766336400-1766343600@tjslavojplzen.cz
SUMMARY:Trénink - futsal /hala/
DESCRIPTION:
URL:http://tjslavojplzen.cz/event/trenink-futsal-hala-3/
END:VEVENT
BEGIN:VEVENT
DTSTART;TZID=Europe/Prague:20251228T150000
DTEND;TZID=Europe/Prague:20251228T170000
DTSTAMP:20260423T003600
CREATED:20251222T121121Z
LAST-MODIFIED:20251222T121121Z
UID:2513-1766934000-1766941200@tjslavojplzen.cz
SUMMARY:Futsal H
DESCRIPTION:
URL:http://tjslavojplzen.cz/event/futsal-h/
END:VEVENT
BEGIN:VEVENT
DTSTART;TZID=Europe/Prague:20251228T150000
DTEND;TZID=Europe/Prague:20251228T180000
DTSTAMP:20260423T003600
CREATED:20251201T130819Z
LAST-MODIFIED:20251201T130819Z
UID:2485-1766934000-1766944800@tjslavojplzen.cz
SUMMARY:tai chi /tělocvična/
DESCRIPTION:
URL:http://tjslavojplzen.cz/event/tai-chi-telocvicna/
END:VEVENT
BEGIN:VEVENT
DTSTART;TZID=Europe/Prague:20251228T170000
DTEND;TZID=Europe/Prague:20251228T190000
DTSTAMP:20260423T003600
CREATED:20251201T130730Z
LAST-MODIFIED:20251222T121209Z
UID:2483-1766941200-1766948400@tjslavojplzen.cz
SUMMARY:Trénink - futsal /hala/
DESCRIPTION:
URL:http://tjslavojplzen.cz/event/trenink-futsal-hala-4/
END:VEVENT
BEGIN:VEVENT
DTSTART;TZID=Europe/Prague:20260117T170000
DTEND;TZID=Europe/Prague:20260117T193000
DTSTAMP:20260423T003600
CREATED:20250903T084820Z
LAST-MODIFIED:20250929T133209Z
UID:2289-1768669200-1768678200@tjslavojplzen.cz
SUMMARY:Basket - zápas krajské soutěže  /hala/
DESCRIPTION:
URL:http://tjslavojplzen.cz/event/basket-zapas-krajske-souteze/
END:VEVENT
BEGIN:VEVENT
DTSTART;TZID=Europe/Prague:20260207T080000
DTEND;TZID=Europe/Prague:20260207T170000
DTSTAMP:20260423T003600
CREATED:20251008T083911Z
LAST-MODIFIED:20251120T071248Z
UID:2340-1770451200-1770483600@tjslavojplzen.cz
SUMMARY:Svaz karate /hala/
DESCRIPTION:
URL:http://tjslavojplzen.cz/event/svaz-karate/
END:VEVENT
BEGIN:VEVENT
DTSTART;TZID=Europe/Prague:20260208T080000
DTEND;TZID=Europe/Prague:20260208T110000
DTSTAMP:20260423T003600
CREATED:20251222T121508Z
LAST-MODIFIED:20251222T121508Z
UID:2515-1770537600-1770548400@tjslavojplzen.cz
SUMMARY:SKB Rokycany
DESCRIPTION:
URL:http://tjslavojplzen.cz/event/skb-rokycany/
END:VEVENT
BEGIN:VEVENT
DTSTART;TZID=Europe/Prague:20260222T090000
DTEND;TZID=Europe/Prague:20260222T120000
DTSTAMP:20260423T003600
CREATED:20250903T084849Z
LAST-MODIFIED:20260204T084910Z
UID:2291-1771750800-1771761600@tjslavojplzen.cz
SUMMARY:Basket - zápas krajské soutěže /hala/
DESCRIPTION:
URL:http://tjslavojplzen.cz/event/basket-zapas-krajske-souteze-2/
END:VEVENT
BEGIN:VEVENT
DTSTART;VALUE=DATE:20260228
DTEND;VALUE=DATE:20260301
DTSTAMP:20260423T003600
CREATED:20251222T121711Z
LAST-MODIFIED:20251222T121711Z
UID:2517-1772236800-1772323199@tjslavojplzen.cz
SUMMARY:Vzpírání H
DESCRIPTION:
URL:http://tjslavojplzen.cz/event/vzpirani-h/
END:VEVENT
BEGIN:VEVENT
DTSTART;TZID=Europe/Prague:20260301T080000
DTEND;TZID=Europe/Prague:20260301T170000
DTSTAMP:20260423T003600
CREATED:20251222T121739Z
LAST-MODIFIED:20251222T121739Z
UID:2519-1772352000-1772384400@tjslavojplzen.cz
SUMMARY:Vzpírání H
DESCRIPTION:
URL:http://tjslavojplzen.cz/event/vzpirani-h-2/
END:VEVENT
BEGIN:VEVENT
DTSTART;TZID=Europe/Prague:20260321T080000
DTEND;TZID=Europe/Prague:20260321T170000
DTSTAMP:20260423T003600
CREATED:20251222T121806Z
LAST-MODIFIED:20251222T121806Z
UID:2521-1774080000-1774112400@tjslavojplzen.cz
SUMMARY:Vzpírání H
DESCRIPTION:
URL:http://tjslavojplzen.cz/event/vzpirani-h-3/
END:VEVENT
BEGIN:VEVENT
DTSTART;TZID=Europe/Prague:20260328T080000
DTEND;TZID=Europe/Prague:20260328T120000
DTSTAMP:20260423T003600
CREATED:20260112T062916Z
LAST-MODIFIED:20260112T062928Z
UID:2552-1774684800-1774699200@tjslavojplzen.cz
SUMMARY:ASPV - závody žactva /Hala/
DESCRIPTION:
URL:http://tjslavojplzen.cz/event/aspv-zavody-zactva/
END:VEVENT
BEGIN:VEVENT
DTSTART;TZID=Europe/Prague:20260329T080000
DTEND;TZID=Europe/Prague:20260329T170000
DTSTAMP:20260423T003600
CREATED:20260309T112404Z
LAST-MODIFIED:20260309T112404Z
UID:2641-1774771200-1774803600@tjslavojplzen.cz
SUMMARY:Karate /Sportovní hala/
DESCRIPTION:
URL:http://tjslavojplzen.cz/event/karate-sportovni-hala/
END:VEVENT
BEGIN:VEVENT
DTSTART;TZID=Europe/Prague:20260418T090000
DTEND;TZID=Europe/Prague:20260418T190000
DTSTAMP:20260423T003600
CREATED:20260218T115051Z
LAST-MODIFIED:20260218T115057Z
UID:2609-1776502800-1776538800@tjslavojplzen.cz
SUMMARY:AIKIDO /H/
DESCRIPTION:
URL:http://tjslavojplzen.cz/event/aikido-4/
END:VEVENT
BEGIN:VEVENT
DTSTART;VALUE=DATE:20260501
DTEND;VALUE=DATE:20260502
DTSTAMP:20260423T003600
CREATED:20251222T121913Z
LAST-MODIFIED:20260302T110134Z
UID:2523-1777593600-1777679999@tjslavojplzen.cz
SUMMARY:MČR "B" basketbal - festival finále
DESCRIPTION:
URL:http://tjslavojplzen.cz/event/mcr-basketbal/
END:VEVENT
BEGIN:VEVENT
DTSTART;VALUE=DATE:20260502
DTEND;VALUE=DATE:20260503
DTSTAMP:20260423T003600
CREATED:20251222T121927Z
LAST-MODIFIED:20260302T110129Z
UID:2525-1777680000-1777766399@tjslavojplzen.cz
SUMMARY:MČR "B" basketbal - festival finále
DESCRIPTION:
URL:http://tjslavojplzen.cz/event/mcr-basketbal-2/
END:VEVENT
END:VCALENDAR