BEGIN:VCALENDAR
VERSION:2.0
PRODID:-//TJ Slavoj Plzeň - ECPv6.15.20//NONSGML v1.0//EN
CALSCALE:GREGORIAN
METHOD:PUBLISH
X-ORIGINAL-URL:http://tjslavojplzen.cz
X-WR-CALDESC:Akce na TJ Slavoj Plzeň
REFRESH-INTERVAL;VALUE=DURATION:PT1H
X-Robots-Tag:noindex
X-PUBLISHED-TTL:PT1H
BEGIN:VTIMEZONE
TZID:Europe/Prague
BEGIN:DAYLIGHT
TZOFFSETFROM:+0100
TZOFFSETTO:+0200
TZNAME:CEST
DTSTART:20230326T010000
END:DAYLIGHT
BEGIN:STANDARD
TZOFFSETFROM:+0200
TZOFFSETTO:+0100
TZNAME:CET
DTSTART:20231029T010000
END:STANDARD
BEGIN:DAYLIGHT
TZOFFSETFROM:+0100
TZOFFSETTO:+0200
TZNAME:CEST
DTSTART:20240331T010000
END:DAYLIGHT
BEGIN:STANDARD
TZOFFSETFROM:+0200
TZOFFSETTO:+0100
TZNAME:CET
DTSTART:20241027T010000
END:STANDARD
BEGIN:DAYLIGHT
TZOFFSETFROM:+0100
TZOFFSETTO:+0200
TZNAME:CEST
DTSTART:20250330T010000
END:DAYLIGHT
BEGIN:STANDARD
TZOFFSETFROM:+0200
TZOFFSETTO:+0100
TZNAME:CET
DTSTART:20251026T010000
END:STANDARD
BEGIN:DAYLIGHT
TZOFFSETFROM:+0100
TZOFFSETTO:+0200
TZNAME:CEST
DTSTART:20260329T010000
END:DAYLIGHT
BEGIN:STANDARD
TZOFFSETFROM:+0200
TZOFFSETTO:+0100
TZNAME:CET
DTSTART:20261025T010000
END:STANDARD
END:VTIMEZONE
BEGIN:VEVENT
DTSTART;TZID=Europe/Prague:20241214T080000
DTEND;TZID=Europe/Prague:20241214T170000
DTSTAMP:20260423T004010
CREATED:20230905T054928Z
LAST-MODIFIED:20230905T055226Z
UID:1002-1734163200-1734195600@tjslavojplzen.cz
SUMMARY:Grand Prix ve vzpírání /hala/
DESCRIPTION:Tradiční závod ve vzpírání\, na kterém se plzeňskému publiku představují nejen domácí vzpěrači pořádající TJ Slavoj Plzeň\, ale zpravidla také česká špička v tomto sportu. Často nechybí ani účastníci ze zahraničí.
URL:http://tjslavojplzen.cz/event/grand-prix-ve-vzpirani/
END:VEVENT
BEGIN:VEVENT
DTSTART;TZID=Europe/Prague:20241215T080000
DTEND;TZID=Europe/Prague:20241215T170000
DTSTAMP:20260423T004010
CREATED:20240904T111454Z
LAST-MODIFIED:20240904T111454Z
UID:1711-1734249600-1734282000@tjslavojplzen.cz
SUMMARY:Vystoupení JA
DESCRIPTION:
URL:http://tjslavojplzen.cz/event/vystoupeni-ja/
END:VEVENT
BEGIN:VEVENT
DTSTART;TZID=Europe/Prague:20241221T140000
DTEND;TZID=Europe/Prague:20241221T200000
DTSTAMP:20260423T004010
CREATED:20241001T111955Z
LAST-MODIFIED:20241001T111955Z
UID:1774-1734789600-1734811200@tjslavojplzen.cz
SUMMARY:Vánoční show taneční školy Dance Nation /hala/
DESCRIPTION:Vánoční show taneční školy Dance Nation
URL:http://tjslavojplzen.cz/event/vanocni-show-tanecni-skoly-dance-nation-hala/
END:VEVENT
BEGIN:VEVENT
DTSTART;TZID=Europe/Prague:20250111T090000
DTEND;TZID=Europe/Prague:20250111T180000
DTSTAMP:20260423T004010
CREATED:20250107T094335Z
LAST-MODIFIED:20250107T094335Z
UID:1910-1736586000-1736618400@tjslavojplzen.cz
SUMMARY:Aikido - tělocvična
DESCRIPTION:
URL:http://tjslavojplzen.cz/event/aikido-telocvicna/
END:VEVENT
BEGIN:VEVENT
DTSTART;TZID=Europe/Prague:20250126T080000
DTEND;TZID=Europe/Prague:20250126T170000
DTSTAMP:20260423T004010
CREATED:20241105T121807Z
LAST-MODIFIED:20241114T082731Z
UID:1832-1737878400-1737910800@tjslavojplzen.cz
SUMMARY:Svaz Karate Plzeňského kraje /Hala/
DESCRIPTION:přesný čas bude upřesněn
URL:http://tjslavojplzen.cz/event/svaz-karate-plzenskeho-kraje-hala/
END:VEVENT
BEGIN:VEVENT
DTSTART;TZID=Europe/Prague:20250201T090000
DTEND;TZID=Europe/Prague:20250201T110000
DTSTAMP:20260423T004010
CREATED:20250131T094444Z
LAST-MODIFIED:20250131T094444Z
UID:1942-1738400400-1738407600@tjslavojplzen.cz
SUMMARY:basket /trénink/ - H
DESCRIPTION:
URL:http://tjslavojplzen.cz/event/basket-trenink-h/
END:VEVENT
BEGIN:VEVENT
DTSTART;TZID=Europe/Prague:20250208T090000
DTEND;TZID=Europe/Prague:20250208T183000
DTSTAMP:20260423T004010
CREATED:20250131T094513Z
LAST-MODIFIED:20250131T094652Z
UID:1944-1739005200-1739039400@tjslavojplzen.cz
SUMMARY:školení trenérek moderní gymnastiky /tělocvična/
DESCRIPTION:
URL:http://tjslavojplzen.cz/event/basket-trenink-hala/
END:VEVENT
BEGIN:VEVENT
DTSTART;TZID=Europe/Prague:20250308T090000
DTEND;TZID=Europe/Prague:20250308T170000
DTSTAMP:20260423T004010
CREATED:20250205T084023Z
LAST-MODIFIED:20250205T084023Z
UID:1949-1741424400-1741453200@tjslavojplzen.cz
SUMMARY:Victoria Talent - trénink /tělocvična/
DESCRIPTION:
URL:http://tjslavojplzen.cz/event/victoria-talent-trenink-telocvicna/
END:VEVENT
BEGIN:VEVENT
DTSTART;TZID=Europe/Prague:20250308T110000
DTEND;TZID=Europe/Prague:20250308T170000
DTSTAMP:20260423T004010
CREATED:20241001T112033Z
LAST-MODIFIED:20241001T112033Z
UID:1776-1741431600-1741453200@tjslavojplzen.cz
SUMMARY:Taneční akademie dětí taneční školy Dance Nation  /hala/
DESCRIPTION:Taneční akademie dětí taneční školy Dance Nation
URL:http://tjslavojplzen.cz/event/tanecni-akademie-deti-tanecni-skoly-dance-nation-hala/
END:VEVENT
BEGIN:VEVENT
DTSTART;TZID=Europe/Prague:20250308T170000
DTEND;TZID=Europe/Prague:20250308T193000
DTSTAMP:20260423T004010
CREATED:20240904T051052Z
LAST-MODIFIED:20240904T051052Z
UID:1706-1741453200-1741462200@tjslavojplzen.cz
SUMMARY:basketbal - zápas domácího týmu /H/
DESCRIPTION:
URL:http://tjslavojplzen.cz/event/basketbal-zapas-domaciho-tymu-h-2/
END:VEVENT
BEGIN:VEVENT
DTSTART;TZID=Europe/Prague:20250309T080000
DTEND;TZID=Europe/Prague:20250309T180000
DTSTAMP:20260423T004010
CREATED:20240919T080950Z
LAST-MODIFIED:20240919T080950Z
UID:1753-1741507200-1741543200@tjslavojplzen.cz
SUMMARY:Narama /hala/
DESCRIPTION:karate
URL:http://tjslavojplzen.cz/event/narama-hala/
END:VEVENT
BEGIN:VEVENT
DTSTART;TZID=Europe/Prague:20250315T080000
DTEND;TZID=Europe/Prague:20250315T170000
DTSTAMP:20260423T004010
CREATED:20250107T094442Z
LAST-MODIFIED:20250107T094442Z
UID:1912-1742025600-1742058000@tjslavojplzen.cz
SUMMARY:Vzpírání - blokace sportovní haly
DESCRIPTION:
URL:http://tjslavojplzen.cz/event/vzpirani-blokace-sportovni-haly/
END:VEVENT
BEGIN:VEVENT
DTSTART;TZID=Europe/Prague:20250322T080000
DTEND;TZID=Europe/Prague:20250322T170000
DTSTAMP:20260423T004010
CREATED:20250107T094453Z
LAST-MODIFIED:20250107T094453Z
UID:1914-1742630400-1742662800@tjslavojplzen.cz
SUMMARY:Vzpírání - blokace sportovní haly
DESCRIPTION:
URL:http://tjslavojplzen.cz/event/vzpirani-blokace-sportovni-haly-2/
END:VEVENT
BEGIN:VEVENT
DTSTART;TZID=Europe/Prague:20250329T080000
DTEND;TZID=Europe/Prague:20250329T120000
DTSTAMP:20260423T004011
CREATED:20250107T094554Z
LAST-MODIFIED:20250107T094554Z
UID:1918-1743235200-1743249600@tjslavojplzen.cz
SUMMARY:ASPV - Plzeň město
DESCRIPTION:
URL:http://tjslavojplzen.cz/event/aspv-plzen-mesto/
END:VEVENT
BEGIN:VEVENT
DTSTART;TZID=Europe/Prague:20250406T180000
DTEND;TZID=Europe/Prague:20250406T200000
DTSTAMP:20260423T004011
CREATED:20250331T074621Z
LAST-MODIFIED:20250331T074621Z
UID:2028-1743962400-1743969600@tjslavojplzen.cz
SUMMARY:Basketbal - zápas
DESCRIPTION:
URL:http://tjslavojplzen.cz/event/basketbal-zapas/
END:VEVENT
BEGIN:VEVENT
DTSTART;VALUE=DATE:20250412
DTEND;VALUE=DATE:20250413
DTSTAMP:20260423T004011
CREATED:20240906T072835Z
LAST-MODIFIED:20240906T072835Z
UID:1713-1744416000-1744502399@tjslavojplzen.cz
SUMMARY:Memoriál Aleny Fialové - moderní gymnastika /hala + tělocvična/
DESCRIPTION:přesný čas bude upřesněn
URL:http://tjslavojplzen.cz/event/memorial-aleny-fialove-moderni-gymnastika-hala-telocvicna/
END:VEVENT
BEGIN:VEVENT
DTSTART;TZID=Europe/Prague:20250426T090000
DTEND;TZID=Europe/Prague:20250426T183000
DTSTAMP:20260423T004011
CREATED:20241216T073642Z
LAST-MODIFIED:20250122T090306Z
UID:1904-1745658000-1745692200@tjslavojplzen.cz
SUMMARY:Aikido seminář Jiřího Marka  /6. dan/ - hala
DESCRIPTION:
URL:http://tjslavojplzen.cz/event/aikido-seminar-jiriho-marka-6-dan/
END:VEVENT
BEGIN:VEVENT
DTSTART;TZID=Europe/Prague:20250503T080000
DTEND;TZID=Europe/Prague:20250503T170000
DTSTAMP:20260423T004011
CREATED:20250212T063446Z
LAST-MODIFIED:20250212T063446Z
UID:1954-1746259200-1746291600@tjslavojplzen.cz
SUMMARY:Zápas - turnaj /hala/
DESCRIPTION:
URL:http://tjslavojplzen.cz/event/zapas-turnaj-hala/
END:VEVENT
BEGIN:VEVENT
DTSTART;TZID=Europe/Prague:20250518T080000
DTEND;TZID=Europe/Prague:20250518T180000
DTSTAMP:20260423T004011
CREATED:20240919T081053Z
LAST-MODIFIED:20240919T081053Z
UID:1755-1747555200-1747591200@tjslavojplzen.cz
SUMMARY:Narama /hala/
DESCRIPTION:karate
URL:http://tjslavojplzen.cz/event/narama-hala-2/
END:VEVENT
BEGIN:VEVENT
DTSTART;VALUE=DATE:20250530
DTEND;VALUE=DATE:20250602
DTSTAMP:20260423T004011
CREATED:20241114T083049Z
LAST-MODIFIED:20241114T083110Z
UID:1854-1748563200-1748822399@tjslavojplzen.cz
SUMMARY:Sokol (hala + tělocvična)
DESCRIPTION:
URL:http://tjslavojplzen.cz/event/sokol-hala-telocvicna/
END:VEVENT
BEGIN:VEVENT
DTSTART;TZID=Europe/Prague:20250614T080000
DTEND;TZID=Europe/Prague:20250614T170000
DTSTAMP:20260423T004011
CREATED:20241105T121855Z
LAST-MODIFIED:20241105T121855Z
UID:1834-1749888000-1749920400@tjslavojplzen.cz
SUMMARY:Svaz Karate Plzeňského kraje /Hala + tělocvična/
DESCRIPTION:Mistrovství Čech – přesný čas bude upřesněn
URL:http://tjslavojplzen.cz/event/svaz-karate-plzenskeho-kraje-hala-telocvicna/
END:VEVENT
BEGIN:VEVENT
DTSTART;TZID=Europe/Prague:20250615T080000
DTEND;TZID=Europe/Prague:20250615T120000
DTSTAMP:20260423T004011
CREATED:20250513T112418Z
LAST-MODIFIED:20250513T112418Z
UID:2157-1749974400-1749988800@tjslavojplzen.cz
SUMMARY:Vystoupení dětí
DESCRIPTION:
URL:http://tjslavojplzen.cz/event/vystoupeni-deti/
END:VEVENT
BEGIN:VEVENT
DTSTART;TZID=Europe/Prague:20250615T120000
DTEND;TZID=Europe/Prague:20250615T180000
DTSTAMP:20260423T004011
CREATED:20250107T130552Z
LAST-MODIFIED:20250107T130552Z
UID:1932-1749988800-1750010400@tjslavojplzen.cz
SUMMARY:Besídka Fit Dance Sport /hala/
DESCRIPTION:
URL:http://tjslavojplzen.cz/event/besidka-fit-dance-sport-hala/
END:VEVENT
BEGIN:VEVENT
DTSTART;VALUE=DATE:20250627
DTEND;VALUE=DATE:20250630
DTSTAMP:20260423T004011
CREATED:20240919T081336Z
LAST-MODIFIED:20240919T081336Z
UID:1763-1750982400-1751241599@tjslavojplzen.cz
SUMMARY:AIKIDO
DESCRIPTION:seminář
URL:http://tjslavojplzen.cz/event/aikido-2/
END:VEVENT
BEGIN:VEVENT
DTSTART;VALUE=DATE:20250726
DTEND;VALUE=DATE:20250728
DTSTAMP:20260423T004011
CREATED:20240919T081407Z
LAST-MODIFIED:20240919T081407Z
UID:1765-1753488000-1753660799@tjslavojplzen.cz
SUMMARY:AIKIDO
DESCRIPTION:seminář
URL:http://tjslavojplzen.cz/event/aikido-3/
END:VEVENT
BEGIN:VEVENT
DTSTART;TZID=Europe/Prague:20250727T080000
DTEND;TZID=Europe/Prague:20250803T170000
DTSTAMP:20260423T004011
CREATED:20250728T115011Z
LAST-MODIFIED:20250728T115011Z
UID:2208-1753603200-1754240400@tjslavojplzen.cz
SUMMARY:Kuželkářský kemp
DESCRIPTION:
URL:http://tjslavojplzen.cz/event/kuzelkarsky-kemp/
END:VEVENT
BEGIN:VEVENT
DTSTART;TZID=Europe/Prague:20250920T090000
DTEND;TZID=Europe/Prague:20250920T180000
DTSTAMP:20260423T004011
CREATED:20250521T072518Z
LAST-MODIFIED:20250521T072521Z
UID:2167-1758358800-1758391200@tjslavojplzen.cz
SUMMARY:Seminář aikido - Petr Hvězda 5. dan
DESCRIPTION:
URL:http://tjslavojplzen.cz/event/seminar-aikido-petr-hvezda-5-dan/
END:VEVENT
BEGIN:VEVENT
DTSTART;TZID=Europe/Prague:20250927T080000
DTEND;TZID=Europe/Prague:20250928T170000
DTSTAMP:20260423T004011
CREATED:20250922T110304Z
LAST-MODIFIED:20250922T110304Z
UID:2320-1758960000-1759078800@tjslavojplzen.cz
SUMMARY:Školení trenérek moderní gymnastiky /tělocvična\, zasedací místnost/
DESCRIPTION:
URL:http://tjslavojplzen.cz/event/skoleni-trenerek-moderni-gymnastiky-telocvicna-zasedaci-mistnost/
END:VEVENT
BEGIN:VEVENT
DTSTART;TZID=Europe/Prague:20251004T080000
DTEND;TZID=Europe/Prague:20251004T200000
DTSTAMP:20260423T004011
CREATED:20250107T094231Z
LAST-MODIFIED:20250929T132639Z
UID:1908-1759564800-1759608000@tjslavojplzen.cz
SUMMARY:Moderní gymnastika  Rapid Plzeň  /tělocvična i hala/
DESCRIPTION:
URL:http://tjslavojplzen.cz/event/moderni-gymnastika-podiove-skladby-telocvicna-i-hala/
END:VEVENT
BEGIN:VEVENT
DTSTART;TZID=Europe/Prague:20251005T080000
DTEND;TZID=Europe/Prague:20251005T180000
DTSTAMP:20260423T004011
CREATED:20240919T081135Z
LAST-MODIFIED:20240919T081135Z
UID:1757-1759651200-1759687200@tjslavojplzen.cz
SUMMARY:Narama /hala/
DESCRIPTION:karate
URL:http://tjslavojplzen.cz/event/narama-hala-3/
END:VEVENT
END:VCALENDAR