BEGIN:VCALENDAR
VERSION:2.0
PRODID:-//TJ Slavoj Plzeň - ECPv6.15.20//NONSGML v1.0//EN
CALSCALE:GREGORIAN
METHOD:PUBLISH
X-WR-CALNAME:TJ Slavoj Plzeň
X-ORIGINAL-URL:http://tjslavojplzen.cz
X-WR-CALDESC:Akce na TJ Slavoj Plzeň
REFRESH-INTERVAL;VALUE=DURATION:PT1H
X-Robots-Tag:noindex
X-PUBLISHED-TTL:PT1H
BEGIN:VTIMEZONE
TZID:Europe/Prague
BEGIN:DAYLIGHT
TZOFFSETFROM:+0100
TZOFFSETTO:+0200
TZNAME:CEST
DTSTART:20230326T010000
END:DAYLIGHT
BEGIN:STANDARD
TZOFFSETFROM:+0200
TZOFFSETTO:+0100
TZNAME:CET
DTSTART:20231029T010000
END:STANDARD
BEGIN:DAYLIGHT
TZOFFSETFROM:+0100
TZOFFSETTO:+0200
TZNAME:CEST
DTSTART:20240331T010000
END:DAYLIGHT
BEGIN:STANDARD
TZOFFSETFROM:+0200
TZOFFSETTO:+0100
TZNAME:CET
DTSTART:20241027T010000
END:STANDARD
BEGIN:DAYLIGHT
TZOFFSETFROM:+0100
TZOFFSETTO:+0200
TZNAME:CEST
DTSTART:20250330T010000
END:DAYLIGHT
BEGIN:STANDARD
TZOFFSETFROM:+0200
TZOFFSETTO:+0100
TZNAME:CET
DTSTART:20251026T010000
END:STANDARD
BEGIN:DAYLIGHT
TZOFFSETFROM:+0100
TZOFFSETTO:+0200
TZNAME:CEST
DTSTART:20260329T010000
END:DAYLIGHT
BEGIN:STANDARD
TZOFFSETFROM:+0200
TZOFFSETTO:+0100
TZNAME:CET
DTSTART:20261025T010000
END:STANDARD
END:VTIMEZONE
BEGIN:VEVENT
DTSTART;TZID=Europe/Prague:20250111T090000
DTEND;TZID=Europe/Prague:20250111T180000
DTSTAMP:20260423T003425
CREATED:20250107T094335Z
LAST-MODIFIED:20250107T094335Z
UID:1910-1736586000-1736618400@tjslavojplzen.cz
SUMMARY:Aikido - tělocvična
DESCRIPTION:
URL:http://tjslavojplzen.cz/event/aikido-telocvicna/
END:VEVENT
BEGIN:VEVENT
DTSTART;TZID=Europe/Prague:20241221T140000
DTEND;TZID=Europe/Prague:20241221T200000
DTSTAMP:20260423T003425
CREATED:20241001T111955Z
LAST-MODIFIED:20241001T111955Z
UID:1774-1734789600-1734811200@tjslavojplzen.cz
SUMMARY:Vánoční show taneční školy Dance Nation /hala/
DESCRIPTION:Vánoční show taneční školy Dance Nation
URL:http://tjslavojplzen.cz/event/vanocni-show-tanecni-skoly-dance-nation-hala/
END:VEVENT
BEGIN:VEVENT
DTSTART;TZID=Europe/Prague:20241215T080000
DTEND;TZID=Europe/Prague:20241215T170000
DTSTAMP:20260423T003425
CREATED:20240904T111454Z
LAST-MODIFIED:20240904T111454Z
UID:1711-1734249600-1734282000@tjslavojplzen.cz
SUMMARY:Vystoupení JA
DESCRIPTION:
URL:http://tjslavojplzen.cz/event/vystoupeni-ja/
END:VEVENT
BEGIN:VEVENT
DTSTART;TZID=Europe/Prague:20241214T080000
DTEND;TZID=Europe/Prague:20241214T170000
DTSTAMP:20260423T003425
CREATED:20230905T054928Z
LAST-MODIFIED:20230905T055226Z
UID:1002-1734163200-1734195600@tjslavojplzen.cz
SUMMARY:Grand Prix ve vzpírání /hala/
DESCRIPTION:Tradiční závod ve vzpírání\, na kterém se plzeňskému publiku představují nejen domácí vzpěrači pořádající TJ Slavoj Plzeň\, ale zpravidla také česká špička v tomto sportu. Často nechybí ani účastníci ze zahraničí.
URL:http://tjslavojplzen.cz/event/grand-prix-ve-vzpirani/
END:VEVENT
BEGIN:VEVENT
DTSTART;TZID=Europe/Prague:20241208T080000
DTEND;TZID=Europe/Prague:20241208T160000
DTSTAMP:20260423T003425
CREATED:20230905T054718Z
LAST-MODIFIED:20241113T091110Z
UID:1000-1733644800-1733673600@tjslavojplzen.cz
SUMMARY:Svaz karate PK /hala/
DESCRIPTION:
URL:http://tjslavojplzen.cz/event/narama-open-2/
END:VEVENT
BEGIN:VEVENT
DTSTART;TZID=Europe/Prague:20241207T130000
DTEND;TZID=Europe/Prague:20241207T190000
DTSTAMP:20260423T003425
CREATED:20240823T054756Z
LAST-MODIFIED:20240823T054756Z
UID:1685-1733576400-1733598000@tjslavojplzen.cz
SUMMARY:Florbal
DESCRIPTION:
URL:http://tjslavojplzen.cz/event/florbal-3/
END:VEVENT
BEGIN:VEVENT
DTSTART;TZID=Europe/Prague:20241130T080000
DTEND;TZID=Europe/Prague:20241130T120000
DTSTAMP:20260423T003425
CREATED:20231212T132241Z
LAST-MODIFIED:20231212T132241Z
UID:1298-1732953600-1732968000@tjslavojplzen.cz
SUMMARY:RC ASPV závody dětí /hala/
DESCRIPTION:
URL:http://tjslavojplzen.cz/event/rc-aspv-zavody-deti-hala/
END:VEVENT
BEGIN:VEVENT
DTSTART;TZID=Europe/Prague:20241124T100000
DTEND;TZID=Europe/Prague:20241124T160000
DTSTAMP:20260423T003425
CREATED:20240725T042151Z
LAST-MODIFIED:20241015T114419Z
UID:1665-1732442400-1732464000@tjslavojplzen.cz
SUMMARY:Přehlídka pohybových skladeb PK ASPV / H + T/
DESCRIPTION:
URL:http://tjslavojplzen.cz/event/prehlidka-pohybovych-skladeb-pk-aspv/
END:VEVENT
BEGIN:VEVENT
DTSTART;TZID=Europe/Prague:20241123T140000
DTEND;TZID=Europe/Prague:20241123T160000
DTSTAMP:20260423T003425
CREATED:20241113T090637Z
LAST-MODIFIED:20241113T090637Z
UID:1844-1732370400-1732377600@tjslavojplzen.cz
SUMMARY:ZOUK academy
DESCRIPTION:
URL:http://tjslavojplzen.cz/event/zouk-academy/
END:VEVENT
BEGIN:VEVENT
DTSTART;TZID=Europe/Prague:20241123T090000
DTEND;TZID=Europe/Prague:20241123T200000
DTSTAMP:20260423T003425
CREATED:20241113T090720Z
LAST-MODIFIED:20241113T090720Z
UID:1846-1732352400-1732392000@tjslavojplzen.cz
SUMMARY:Basket Mongolsko
DESCRIPTION:
URL:http://tjslavojplzen.cz/event/basket-mongolsko/
END:VEVENT
BEGIN:VEVENT
DTSTART;TZID=Europe/Prague:20241117T170000
DTEND;TZID=Europe/Prague:20241117T200000
DTSTAMP:20260423T003425
CREATED:20241113T090808Z
LAST-MODIFIED:20241113T090808Z
UID:1848-1731862800-1731873600@tjslavojplzen.cz
SUMMARY:nácvik maturitního plesu
DESCRIPTION:
URL:http://tjslavojplzen.cz/event/nacvik-maturitniho-plesu/
END:VEVENT
BEGIN:VEVENT
DTSTART;TZID=Europe/Prague:20241116T070000
DTEND;TZID=Europe/Prague:20241116T170000
DTSTAMP:20260423T003425
CREATED:20231212T132154Z
LAST-MODIFIED:20241113T090205Z
UID:1296-1731740400-1731776400@tjslavojplzen.cz
SUMMARY:Oblastní přebor v moderní gymnastice /hala + tělocvična/
DESCRIPTION:
URL:http://tjslavojplzen.cz/event/oblastni-prebor-v-moderni-gymnastice-hala-telocvicna/
END:VEVENT
BEGIN:VEVENT
DTSTART;TZID=Europe/Prague:20241110T080000
DTEND;TZID=Europe/Prague:20241110T160000
DTSTAMP:20260423T003425
CREATED:20230905T054648Z
LAST-MODIFIED:20230905T055208Z
UID:998-1731225600-1731254400@tjslavojplzen.cz
SUMMARY:Narama Seito /hala/
DESCRIPTION:
URL:http://tjslavojplzen.cz/event/narama-seito-2/
END:VEVENT
BEGIN:VEVENT
DTSTART;TZID=Europe/Prague:20241109T080000
DTEND;TZID=Europe/Prague:20241109T210000
DTSTAMP:20260423T003425
CREATED:20240110T052928Z
LAST-MODIFIED:20241015T114345Z
UID:1327-1731139200-1731186000@tjslavojplzen.cz
SUMMARY:RG CUP v Moderní gymnastice /hala\, tělocvična/
DESCRIPTION:Pohár ve společných skladbách a dvojic/trojic.
URL:http://tjslavojplzen.cz/event/rg-cup-v-moderni-gymnastice/
END:VEVENT
BEGIN:VEVENT
DTSTART;TZID=Europe/Prague:20241102T170000
DTEND;TZID=Europe/Prague:20241102T193000
DTSTAMP:20260423T003425
CREATED:20240904T050948Z
LAST-MODIFIED:20240904T051002Z
UID:1701-1730566800-1730575800@tjslavojplzen.cz
SUMMARY:basketbal - zápas domácího týmu /H/
DESCRIPTION:
URL:http://tjslavojplzen.cz/event/basketbal-zapas-domaciho-tymu-2/
END:VEVENT
BEGIN:VEVENT
DTSTART;TZID=Europe/Prague:20241102T080000
DTEND;TZID=Europe/Prague:20241102T170000
DTSTAMP:20260423T003425
CREATED:20240823T054610Z
LAST-MODIFIED:20240823T054610Z
UID:1683-1730534400-1730566800@tjslavojplzen.cz
SUMMARY:Závody dětí
DESCRIPTION:
URL:http://tjslavojplzen.cz/event/zavody-deti/
END:VEVENT
BEGIN:VEVENT
DTSTART;VALUE=DATE:20241026
DTEND;VALUE=DATE:20241028
DTSTAMP:20260423T003425
CREATED:20240919T080437Z
LAST-MODIFIED:20240919T080437Z
UID:1751-1729900800-1730073599@tjslavojplzen.cz
SUMMARY:AIKIDO
DESCRIPTION:Seminář Bohemia Aikikai
URL:http://tjslavojplzen.cz/event/aikido/
END:VEVENT
BEGIN:VEVENT
DTSTART;TZID=Europe/Prague:20241019T080000
DTEND;TZID=Europe/Prague:20241019T170000
DTSTAMP:20260423T003425
CREATED:20231106T104755Z
LAST-MODIFIED:20231106T104755Z
UID:1202-1729324800-1729357200@tjslavojplzen.cz
SUMMARY:Českomoravský pohár v MG /hala\, tělocvična/
DESCRIPTION:pořádá SK MG Plzeň Bolevec (čas orientační\, ještě bude upřesněn)
URL:http://tjslavojplzen.cz/event/ceskomoravsky-pohar-v-mg-hala-telocvicna/
END:VEVENT
BEGIN:VEVENT
DTSTART;TZID=Europe/Prague:20241012T070000
DTEND;TZID=Europe/Prague:20241012T190000
DTSTAMP:20260423T003425
CREATED:20240102T104811Z
LAST-MODIFIED:20240102T104811Z
UID:1314-1728716400-1728759600@tjslavojplzen.cz
SUMMARY:Moderní gymnastika: Plzeňský pohár a Memoriál Jiřiny Krocové /hala i tělocvična/
DESCRIPTION:Plzeňský pohár a Memoriál Jiřiny Krocové
URL:http://tjslavojplzen.cz/event/moderni-gymnastika-plzensky-pohar-a-memorial-jiriny-krocove-hala-i-telocvicna/
END:VEVENT
BEGIN:VEVENT
DTSTART;TZID=Europe/Prague:20241006T080000
DTEND;TZID=Europe/Prague:20241006T180000
DTSTAMP:20260423T003425
CREATED:20230905T054605Z
LAST-MODIFIED:20230905T055204Z
UID:996-1728201600-1728237600@tjslavojplzen.cz
SUMMARY:Krajská liga karate /hala/
DESCRIPTION:
URL:http://tjslavojplzen.cz/event/krajska-liga-karate-2/
END:VEVENT
BEGIN:VEVENT
DTSTART;TZID=Europe/Prague:20240928T170000
DTEND;TZID=Europe/Prague:20240928T193000
DTSTAMP:20260423T003425
CREATED:20240904T050919Z
LAST-MODIFIED:20240904T051141Z
UID:1699-1727542800-1727551800@tjslavojplzen.cz
SUMMARY:basketbal - zápas domácího týmu /H/
DESCRIPTION:
URL:http://tjslavojplzen.cz/event/basketbal-zapas-domaciho-tymu/
END:VEVENT
BEGIN:VEVENT
DTSTART;TZID=Europe/Prague:20240921T080000
DTEND;TZID=Europe/Prague:20240921T233000
DTSTAMP:20260423T003425
CREATED:20240910T111435Z
LAST-MODIFIED:20240919T080253Z
UID:1724-1726905600-1726961400@tjslavojplzen.cz
SUMMARY:Volejbal /Hala/
DESCRIPTION:
URL:http://tjslavojplzen.cz/event/volejbal-hala/
END:VEVENT
BEGIN:VEVENT
DTSTART;TZID=Europe/Prague:20240810T080000
DTEND;TZID=Europe/Prague:20240814T170000
DTSTAMP:20260423T003425
CREATED:20240430T082628Z
LAST-MODIFIED:20240530T095255Z
UID:1509-1723276800-1723654800@tjslavojplzen.cz
SUMMARY:Soustředění Slavia SK Rapid /hala/
DESCRIPTION:
URL:http://tjslavojplzen.cz/event/soustredeni-slavia-sk-rapid/
END:VEVENT
BEGIN:VEVENT
DTSTART;TZID=Europe/Prague:20240708T080000
DTEND;TZID=Europe/Prague:20240712T170000
DTSTAMP:20260423T003425
CREATED:20240430T082458Z
LAST-MODIFIED:20240530T095313Z
UID:1505-1720425600-1720803600@tjslavojplzen.cz
SUMMARY:Moderní gymnastika - příměstský tábor /hala/
DESCRIPTION:
URL:http://tjslavojplzen.cz/event/moderni-gymnastika-primestsky-tabor/
END:VEVENT
BEGIN:VEVENT
DTSTART;TZID=Europe/Prague:20240622T073000
DTEND;TZID=Europe/Prague:20240623T170000
DTSTAMP:20260423T003425
CREATED:20231213T090539Z
LAST-MODIFIED:20240530T095320Z
UID:1302-1719041400-1719162000@tjslavojplzen.cz
SUMMARY:Aikido seminář /hala/
DESCRIPTION:
URL:http://tjslavojplzen.cz/event/aikido-seminar/
END:VEVENT
BEGIN:VEVENT
DTSTART;TZID=Europe/Prague:20240616T120000
DTEND;TZID=Europe/Prague:20240616T180000
DTSTAMP:20260423T003425
CREATED:20240112T124328Z
LAST-MODIFIED:20240530T095331Z
UID:1332-1718539200-1718560800@tjslavojplzen.cz
SUMMARY:Fit Dance Sport /hala/
DESCRIPTION:
URL:http://tjslavojplzen.cz/event/fit-dance-sport/
END:VEVENT
BEGIN:VEVENT
DTSTART;TZID=Europe/Prague:20240609T143000
DTEND;TZID=Europe/Prague:20240609T183000
DTSTAMP:20260423T003425
CREATED:20240112T124256Z
LAST-MODIFIED:20240530T095341Z
UID:1330-1717943400-1717957800@tjslavojplzen.cz
SUMMARY:Sport Studio JA /hala/
DESCRIPTION:
URL:http://tjslavojplzen.cz/event/sport-studio-ja-2/
END:VEVENT
BEGIN:VEVENT
DTSTART;TZID=Europe/Prague:20240609T090000
DTEND;TZID=Europe/Prague:20240609T170000
DTSTAMP:20260423T003425
CREATED:20240530T095131Z
LAST-MODIFIED:20240530T095156Z
UID:1590-1717923600-1717952400@tjslavojplzen.cz
SUMMARY:Moderní gymnastika - víkendový trénink /dopoledne H\, odpoledne T/
DESCRIPTION:Od rána od 14:00 v hale TJ\, ve 14:00 přesun do tělocvičny
URL:http://tjslavojplzen.cz/event/moderni-gymnastika-vikendovy-trenink/
END:VEVENT
BEGIN:VEVENT
DTSTART;TZID=Europe/Prague:20240608T090000
DTEND;TZID=Europe/Prague:20240608T210000
DTSTAMP:20260423T003425
CREATED:20240430T081752Z
LAST-MODIFIED:20240530T095350Z
UID:1503-1717837200-1717880400@tjslavojplzen.cz
SUMMARY:basketbal /hala/
DESCRIPTION:
URL:http://tjslavojplzen.cz/event/trenink-moderni-gymnastiky/
END:VEVENT
BEGIN:VEVENT
DTSTART;TZID=Europe/Prague:20240525T080000
DTEND;TZID=Europe/Prague:20240526T170000
DTSTAMP:20260423T003425
CREATED:20240313T094217Z
LAST-MODIFIED:20240530T095357Z
UID:1400-1716624000-1716742800@tjslavojplzen.cz
SUMMARY:aikido seminář - Jean Michel Bovio /hala/
DESCRIPTION:6. dan Aikido\, 7. dan Aikido Toho Iai
URL:http://tjslavojplzen.cz/event/aikido-seminar-jean-michel-bovio/
END:VEVENT
END:VCALENDAR