BEGIN:VCALENDAR
VERSION:2.0
PRODID:-//TJ Slavoj Plzeň - ECPv6.15.20//NONSGML v1.0//EN
CALSCALE:GREGORIAN
METHOD:PUBLISH
X-ORIGINAL-URL:http://tjslavojplzen.cz
X-WR-CALDESC:Akce na TJ Slavoj Plzeň
REFRESH-INTERVAL;VALUE=DURATION:PT1H
X-Robots-Tag:noindex
X-PUBLISHED-TTL:PT1H
BEGIN:VTIMEZONE
TZID:Europe/Prague
BEGIN:DAYLIGHT
TZOFFSETFROM:+0100
TZOFFSETTO:+0200
TZNAME:CEST
DTSTART:20240331T010000
END:DAYLIGHT
BEGIN:STANDARD
TZOFFSETFROM:+0200
TZOFFSETTO:+0100
TZNAME:CET
DTSTART:20241027T010000
END:STANDARD
BEGIN:DAYLIGHT
TZOFFSETFROM:+0100
TZOFFSETTO:+0200
TZNAME:CEST
DTSTART:20250330T010000
END:DAYLIGHT
BEGIN:STANDARD
TZOFFSETFROM:+0200
TZOFFSETTO:+0100
TZNAME:CET
DTSTART:20251026T010000
END:STANDARD
BEGIN:DAYLIGHT
TZOFFSETFROM:+0100
TZOFFSETTO:+0200
TZNAME:CEST
DTSTART:20260329T010000
END:DAYLIGHT
BEGIN:STANDARD
TZOFFSETFROM:+0200
TZOFFSETTO:+0100
TZNAME:CET
DTSTART:20261025T010000
END:STANDARD
END:VTIMEZONE
BEGIN:VEVENT
DTSTART;TZID=Europe/Prague:20251004T080000
DTEND;TZID=Europe/Prague:20251004T200000
DTSTAMP:20260422T045247
CREATED:20250107T094231Z
LAST-MODIFIED:20250929T132639Z
UID:1908-1759564800-1759608000@tjslavojplzen.cz
SUMMARY:Moderní gymnastika  Rapid Plzeň  /tělocvična i hala/
DESCRIPTION:
URL:http://tjslavojplzen.cz/event/moderni-gymnastika-podiove-skladby-telocvicna-i-hala/
END:VEVENT
BEGIN:VEVENT
DTSTART;TZID=Europe/Prague:20251005T080000
DTEND;TZID=Europe/Prague:20251005T180000
DTSTAMP:20260422T045247
CREATED:20240919T081135Z
LAST-MODIFIED:20240919T081135Z
UID:1757-1759651200-1759687200@tjslavojplzen.cz
SUMMARY:Narama /hala/
DESCRIPTION:karate
URL:http://tjslavojplzen.cz/event/narama-hala-3/
END:VEVENT
BEGIN:VEVENT
DTSTART;TZID=Europe/Prague:20251018T073000
DTEND;TZID=Europe/Prague:20251018T190000
DTSTAMP:20260422T045247
CREATED:20250107T094930Z
LAST-MODIFIED:20250107T095340Z
UID:1920-1760772600-1760814000@tjslavojplzen.cz
SUMMARY:Moderní gymnastika SK MG Plzeň Bolevec /hala\, tělocvična/
DESCRIPTION:
URL:http://tjslavojplzen.cz/event/moderni-gymnastika-sk-mg-plzen-bolevec-hala-telocvicna/
END:VEVENT
BEGIN:VEVENT
DTSTART;TZID=Europe/Prague:20251019T093000
DTEND;TZID=Europe/Prague:20251019T120000
DTSTAMP:20260422T045247
CREATED:20250929T132805Z
LAST-MODIFIED:20250929T132805Z
UID:2322-1760866200-1760875200@tjslavojplzen.cz
SUMMARY:Basketbal - zápas domácího týmu
DESCRIPTION:
URL:http://tjslavojplzen.cz/event/basketbal-zapas-domaciho-tymu-3/
END:VEVENT
BEGIN:VEVENT
DTSTART;TZID=Europe/Prague:20251020T180000
DTEND;TZID=Europe/Prague:20251020T200000
DTSTAMP:20260422T045247
CREATED:20250929T132934Z
LAST-MODIFIED:20250929T133140Z
UID:2324-1760983200-1760990400@tjslavojplzen.cz
SUMMARY:SVJ Plovární - schůze /zasedací místnost/
DESCRIPTION:
URL:http://tjslavojplzen.cz/event/svj-plovarni-schuze-zasedaci-mistnost/
END:VEVENT
BEGIN:VEVENT
DTSTART;TZID=Europe/Prague:20251025T080000
DTEND;TZID=Europe/Prague:20251025T170000
DTSTAMP:20260422T045247
CREATED:20250107T094956Z
LAST-MODIFIED:20250711T090255Z
UID:1922-1761379200-1761411600@tjslavojplzen.cz
SUMMARY:Vzpírání
DESCRIPTION:
URL:http://tjslavojplzen.cz/event/vzpirani-blokace-sportovni-haly-4/
END:VEVENT
BEGIN:VEVENT
DTSTART;TZID=Europe/Prague:20251025T093000
DTEND;TZID=Europe/Prague:20251025T173000
DTSTAMP:20260422T045247
CREATED:20251008T083627Z
LAST-MODIFIED:20251008T083627Z
UID:2336-1761384600-1761413400@tjslavojplzen.cz
SUMMARY:Moderní gymnastika /Tělocvična/
DESCRIPTION:
URL:http://tjslavojplzen.cz/event/moderni-gymnastika-telocvicna/
END:VEVENT
END:VCALENDAR