BEGIN:VCALENDAR
VERSION:2.0
PRODID:-//TJ Slavoj Plzeň - ECPv6.15.20//NONSGML v1.0//EN
CALSCALE:GREGORIAN
METHOD:PUBLISH
X-ORIGINAL-URL:http://tjslavojplzen.cz
X-WR-CALDESC:Akce na TJ Slavoj Plzeň
REFRESH-INTERVAL;VALUE=DURATION:PT1H
X-Robots-Tag:noindex
X-PUBLISHED-TTL:PT1H
BEGIN:VTIMEZONE
TZID:Europe/Prague
BEGIN:DAYLIGHT
TZOFFSETFROM:+0100
TZOFFSETTO:+0200
TZNAME:CEST
DTSTART:20240331T010000
END:DAYLIGHT
BEGIN:STANDARD
TZOFFSETFROM:+0200
TZOFFSETTO:+0100
TZNAME:CET
DTSTART:20241027T010000
END:STANDARD
BEGIN:DAYLIGHT
TZOFFSETFROM:+0100
TZOFFSETTO:+0200
TZNAME:CEST
DTSTART:20250330T010000
END:DAYLIGHT
BEGIN:STANDARD
TZOFFSETFROM:+0200
TZOFFSETTO:+0100
TZNAME:CET
DTSTART:20251026T010000
END:STANDARD
BEGIN:DAYLIGHT
TZOFFSETFROM:+0100
TZOFFSETTO:+0200
TZNAME:CEST
DTSTART:20260329T010000
END:DAYLIGHT
BEGIN:STANDARD
TZOFFSETFROM:+0200
TZOFFSETTO:+0100
TZNAME:CET
DTSTART:20261025T010000
END:STANDARD
END:VTIMEZONE
BEGIN:VEVENT
DTSTART;TZID=Europe/Prague:20250308T090000
DTEND;TZID=Europe/Prague:20250308T170000
DTSTAMP:20260422T162714
CREATED:20250205T084023Z
LAST-MODIFIED:20250205T084023Z
UID:1949-1741424400-1741453200@tjslavojplzen.cz
SUMMARY:Victoria Talent - trénink /tělocvična/
DESCRIPTION:
URL:http://tjslavojplzen.cz/event/victoria-talent-trenink-telocvicna/
END:VEVENT
BEGIN:VEVENT
DTSTART;TZID=Europe/Prague:20250308T110000
DTEND;TZID=Europe/Prague:20250308T170000
DTSTAMP:20260422T162714
CREATED:20241001T112033Z
LAST-MODIFIED:20241001T112033Z
UID:1776-1741431600-1741453200@tjslavojplzen.cz
SUMMARY:Taneční akademie dětí taneční školy Dance Nation  /hala/
DESCRIPTION:Taneční akademie dětí taneční školy Dance Nation
URL:http://tjslavojplzen.cz/event/tanecni-akademie-deti-tanecni-skoly-dance-nation-hala/
END:VEVENT
BEGIN:VEVENT
DTSTART;TZID=Europe/Prague:20250308T170000
DTEND;TZID=Europe/Prague:20250308T193000
DTSTAMP:20260422T162714
CREATED:20240904T051052Z
LAST-MODIFIED:20240904T051052Z
UID:1706-1741453200-1741462200@tjslavojplzen.cz
SUMMARY:basketbal - zápas domácího týmu /H/
DESCRIPTION:
URL:http://tjslavojplzen.cz/event/basketbal-zapas-domaciho-tymu-h-2/
END:VEVENT
BEGIN:VEVENT
DTSTART;TZID=Europe/Prague:20250309T080000
DTEND;TZID=Europe/Prague:20250309T180000
DTSTAMP:20260422T162714
CREATED:20240919T080950Z
LAST-MODIFIED:20240919T080950Z
UID:1753-1741507200-1741543200@tjslavojplzen.cz
SUMMARY:Narama /hala/
DESCRIPTION:karate
URL:http://tjslavojplzen.cz/event/narama-hala/
END:VEVENT
BEGIN:VEVENT
DTSTART;TZID=Europe/Prague:20250315T080000
DTEND;TZID=Europe/Prague:20250315T170000
DTSTAMP:20260422T162714
CREATED:20250107T094442Z
LAST-MODIFIED:20250107T094442Z
UID:1912-1742025600-1742058000@tjslavojplzen.cz
SUMMARY:Vzpírání - blokace sportovní haly
DESCRIPTION:
URL:http://tjslavojplzen.cz/event/vzpirani-blokace-sportovni-haly/
END:VEVENT
BEGIN:VEVENT
DTSTART;TZID=Europe/Prague:20250322T080000
DTEND;TZID=Europe/Prague:20250322T170000
DTSTAMP:20260422T162714
CREATED:20250107T094453Z
LAST-MODIFIED:20250107T094453Z
UID:1914-1742630400-1742662800@tjslavojplzen.cz
SUMMARY:Vzpírání - blokace sportovní haly
DESCRIPTION:
URL:http://tjslavojplzen.cz/event/vzpirani-blokace-sportovni-haly-2/
END:VEVENT
BEGIN:VEVENT
DTSTART;TZID=Europe/Prague:20250329T080000
DTEND;TZID=Europe/Prague:20250329T120000
DTSTAMP:20260422T162714
CREATED:20250107T094554Z
LAST-MODIFIED:20250107T094554Z
UID:1918-1743235200-1743249600@tjslavojplzen.cz
SUMMARY:ASPV - Plzeň město
DESCRIPTION:
URL:http://tjslavojplzen.cz/event/aspv-plzen-mesto/
END:VEVENT
END:VCALENDAR