BEGIN:VCALENDAR
VERSION:2.0
PRODID:-//TJ Slavoj Plzeň - ECPv6.15.20//NONSGML v1.0//EN
CALSCALE:GREGORIAN
METHOD:PUBLISH
X-ORIGINAL-URL:http://tjslavojplzen.cz
X-WR-CALDESC:Akce na TJ Slavoj Plzeň
REFRESH-INTERVAL;VALUE=DURATION:PT1H
X-Robots-Tag:noindex
X-PUBLISHED-TTL:PT1H
BEGIN:VTIMEZONE
TZID:Europe/Prague
BEGIN:DAYLIGHT
TZOFFSETFROM:+0100
TZOFFSETTO:+0200
TZNAME:CEST
DTSTART:20230326T010000
END:DAYLIGHT
BEGIN:STANDARD
TZOFFSETFROM:+0200
TZOFFSETTO:+0100
TZNAME:CET
DTSTART:20231029T010000
END:STANDARD
BEGIN:DAYLIGHT
TZOFFSETFROM:+0100
TZOFFSETTO:+0200
TZNAME:CEST
DTSTART:20240331T010000
END:DAYLIGHT
BEGIN:STANDARD
TZOFFSETFROM:+0200
TZOFFSETTO:+0100
TZNAME:CET
DTSTART:20241027T010000
END:STANDARD
BEGIN:DAYLIGHT
TZOFFSETFROM:+0100
TZOFFSETTO:+0200
TZNAME:CEST
DTSTART:20250330T010000
END:DAYLIGHT
BEGIN:STANDARD
TZOFFSETFROM:+0200
TZOFFSETTO:+0100
TZNAME:CET
DTSTART:20251026T010000
END:STANDARD
END:VTIMEZONE
BEGIN:VEVENT
DTSTART;TZID=Europe/Prague:20241006T080000
DTEND;TZID=Europe/Prague:20241006T180000
DTSTAMP:20260423T003030
CREATED:20230905T054605Z
LAST-MODIFIED:20230905T055204Z
UID:996-1728201600-1728237600@tjslavojplzen.cz
SUMMARY:Krajská liga karate /hala/
DESCRIPTION:
URL:http://tjslavojplzen.cz/event/krajska-liga-karate-2/
END:VEVENT
BEGIN:VEVENT
DTSTART;TZID=Europe/Prague:20241012T070000
DTEND;TZID=Europe/Prague:20241012T190000
DTSTAMP:20260423T003030
CREATED:20240102T104811Z
LAST-MODIFIED:20240102T104811Z
UID:1314-1728716400-1728759600@tjslavojplzen.cz
SUMMARY:Moderní gymnastika: Plzeňský pohár a Memoriál Jiřiny Krocové /hala i tělocvična/
DESCRIPTION:Plzeňský pohár a Memoriál Jiřiny Krocové
URL:http://tjslavojplzen.cz/event/moderni-gymnastika-plzensky-pohar-a-memorial-jiriny-krocove-hala-i-telocvicna/
END:VEVENT
BEGIN:VEVENT
DTSTART;TZID=Europe/Prague:20241019T080000
DTEND;TZID=Europe/Prague:20241019T170000
DTSTAMP:20260423T003030
CREATED:20231106T104755Z
LAST-MODIFIED:20231106T104755Z
UID:1202-1729324800-1729357200@tjslavojplzen.cz
SUMMARY:Českomoravský pohár v MG /hala\, tělocvična/
DESCRIPTION:pořádá SK MG Plzeň Bolevec (čas orientační\, ještě bude upřesněn)
URL:http://tjslavojplzen.cz/event/ceskomoravsky-pohar-v-mg-hala-telocvicna/
END:VEVENT
BEGIN:VEVENT
DTSTART;VALUE=DATE:20241026
DTEND;VALUE=DATE:20241028
DTSTAMP:20260423T003030
CREATED:20240919T080437Z
LAST-MODIFIED:20240919T080437Z
UID:1751-1729900800-1730073599@tjslavojplzen.cz
SUMMARY:AIKIDO
DESCRIPTION:Seminář Bohemia Aikikai
URL:http://tjslavojplzen.cz/event/aikido/
END:VEVENT
END:VCALENDAR