BEGIN:VCALENDAR
VERSION:2.0
PRODID:-//TJ Slavoj Plzeň - ECPv6.15.20//NONSGML v1.0//EN
CALSCALE:GREGORIAN
METHOD:PUBLISH
X-ORIGINAL-URL:http://tjslavojplzen.cz
X-WR-CALDESC:Akce na TJ Slavoj Plzeň
REFRESH-INTERVAL;VALUE=DURATION:PT1H
X-Robots-Tag:noindex
X-PUBLISHED-TTL:PT1H
BEGIN:VTIMEZONE
TZID:Europe/Prague
BEGIN:DAYLIGHT
TZOFFSETFROM:+0100
TZOFFSETTO:+0200
TZNAME:CEST
DTSTART:20230326T010000
END:DAYLIGHT
BEGIN:STANDARD
TZOFFSETFROM:+0200
TZOFFSETTO:+0100
TZNAME:CET
DTSTART:20231029T010000
END:STANDARD
BEGIN:DAYLIGHT
TZOFFSETFROM:+0100
TZOFFSETTO:+0200
TZNAME:CEST
DTSTART:20240331T010000
END:DAYLIGHT
BEGIN:STANDARD
TZOFFSETFROM:+0200
TZOFFSETTO:+0100
TZNAME:CET
DTSTART:20241027T010000
END:STANDARD
BEGIN:DAYLIGHT
TZOFFSETFROM:+0100
TZOFFSETTO:+0200
TZNAME:CEST
DTSTART:20250330T010000
END:DAYLIGHT
BEGIN:STANDARD
TZOFFSETFROM:+0200
TZOFFSETTO:+0100
TZNAME:CET
DTSTART:20251026T010000
END:STANDARD
END:VTIMEZONE
BEGIN:VEVENT
DTSTART;TZID=Europe/Prague:20240203T090000
DTEND;TZID=Europe/Prague:20240203T170000
DTSTAMP:20260423T123215
CREATED:20231212T131421Z
LAST-MODIFIED:20231212T131421Z
UID:1282-1706950800-1706979600@tjslavojplzen.cz
SUMMARY:trénink MG /tělocvična/
DESCRIPTION:
URL:http://tjslavojplzen.cz/event/trenink-mg-telocvicna-3/
END:VEVENT
BEGIN:VEVENT
DTSTART;TZID=Europe/Prague:20240210T090000
DTEND;TZID=Europe/Prague:20240210T170000
DTSTAMP:20260423T123215
CREATED:20240108T120908Z
LAST-MODIFIED:20240108T121049Z
UID:1321-1707555600-1707584400@tjslavojplzen.cz
SUMMARY:Victoria Talent Academy  /tělocvična/
DESCRIPTION:
URL:http://tjslavojplzen.cz/event/victoria-talent-academy/
END:VEVENT
BEGIN:VEVENT
DTSTART;TZID=Europe/Prague:20240210T100000
DTEND;TZID=Europe/Prague:20240210T170000
DTSTAMP:20260423T123215
CREATED:20231024T110043Z
LAST-MODIFIED:20231024T110043Z
UID:1161-1707559200-1707584400@tjslavojplzen.cz
SUMMARY:Sokol - nácvik
DESCRIPTION:
URL:http://tjslavojplzen.cz/event/sokol-nacvik/
END:VEVENT
BEGIN:VEVENT
DTSTART;TZID=Europe/Prague:20240211T090000
DTEND;TZID=Europe/Prague:20240211T160000
DTSTAMP:20260423T123215
CREATED:20240108T120923Z
LAST-MODIFIED:20240108T121043Z
UID:1323-1707642000-1707667200@tjslavojplzen.cz
SUMMARY:Victoria Talent Academy /tělocvična/
DESCRIPTION:
URL:http://tjslavojplzen.cz/event/victoria-talent-academy-2/
END:VEVENT
BEGIN:VEVENT
DTSTART;TZID=Europe/Prague:20240217T090000
DTEND;TZID=Europe/Prague:20240217T160000
DTSTAMP:20260423T123215
CREATED:20240125T120906Z
LAST-MODIFIED:20240125T120906Z
UID:1337-1708160400-1708185600@tjslavojplzen.cz
SUMMARY:trénink MG /hala/
DESCRIPTION:
URL:http://tjslavojplzen.cz/event/trenink-mg-hala-2/
END:VEVENT
BEGIN:VEVENT
DTSTART;TZID=Europe/Prague:20240217T170000
DTEND;TZID=Europe/Prague:20240217T193000
DTSTAMP:20260423T123215
CREATED:20230906T053433Z
LAST-MODIFIED:20230906T053550Z
UID:1028-1708189200-1708198200@tjslavojplzen.cz
SUMMARY:Basketbal TJ Slavoj /hala/
DESCRIPTION:
URL:http://tjslavojplzen.cz/event/basketbal-tj-slavoj-hala-3/
END:VEVENT
END:VCALENDAR