BEGIN:VCALENDAR
VERSION:2.0
PRODID:-//TJ Slavoj Plzeň - ECPv6.15.20//NONSGML v1.0//EN
CALSCALE:GREGORIAN
METHOD:PUBLISH
X-ORIGINAL-URL:http://tjslavojplzen.cz
X-WR-CALDESC:Akce na TJ Slavoj Plzeň
REFRESH-INTERVAL;VALUE=DURATION:PT1H
X-Robots-Tag:noindex
X-PUBLISHED-TTL:PT1H
BEGIN:VTIMEZONE
TZID:Europe/Prague
BEGIN:DAYLIGHT
TZOFFSETFROM:+0100
TZOFFSETTO:+0200
TZNAME:CEST
DTSTART:20230326T010000
END:DAYLIGHT
BEGIN:STANDARD
TZOFFSETFROM:+0200
TZOFFSETTO:+0100
TZNAME:CET
DTSTART:20231029T010000
END:STANDARD
BEGIN:DAYLIGHT
TZOFFSETFROM:+0100
TZOFFSETTO:+0200
TZNAME:CEST
DTSTART:20240331T010000
END:DAYLIGHT
BEGIN:STANDARD
TZOFFSETFROM:+0200
TZOFFSETTO:+0100
TZNAME:CET
DTSTART:20241027T010000
END:STANDARD
BEGIN:DAYLIGHT
TZOFFSETFROM:+0100
TZOFFSETTO:+0200
TZNAME:CEST
DTSTART:20250330T010000
END:DAYLIGHT
BEGIN:STANDARD
TZOFFSETFROM:+0200
TZOFFSETTO:+0100
TZNAME:CET
DTSTART:20251026T010000
END:STANDARD
END:VTIMEZONE
BEGIN:VEVENT
DTSTART;TZID=Europe/Prague:20240106T090000
DTEND;TZID=Europe/Prague:20240106T170000
DTSTAMP:20260423T140354
CREATED:20231212T130952Z
LAST-MODIFIED:20231212T130952Z
UID:1272-1704531600-1704560400@tjslavojplzen.cz
SUMMARY:trénink MG /tělocvična/
DESCRIPTION:
URL:http://tjslavojplzen.cz/event/trenink-mg-telocvicna/
END:VEVENT
BEGIN:VEVENT
DTSTART;TZID=Europe/Prague:20240106T110000
DTEND;TZID=Europe/Prague:20240106T170000
DTSTAMP:20260423T140354
CREATED:20240103T084130Z
LAST-MODIFIED:20240103T084130Z
UID:1316-1704538800-1704560400@tjslavojplzen.cz
SUMMARY:basketbal /hala/
DESCRIPTION:
URL:http://tjslavojplzen.cz/event/basketbal-hala-3/
END:VEVENT
BEGIN:VEVENT
DTSTART;TZID=Europe/Prague:20240107T110000
DTEND;TZID=Europe/Prague:20240107T170000
DTSTAMP:20260423T140354
CREATED:20240103T084151Z
LAST-MODIFIED:20240103T084151Z
UID:1318-1704625200-1704646800@tjslavojplzen.cz
SUMMARY:basketbal /hala/
DESCRIPTION:
URL:http://tjslavojplzen.cz/event/basketbal-hala-4/
END:VEVENT
BEGIN:VEVENT
DTSTART;TZID=Europe/Prague:20240120T090000
DTEND;TZID=Europe/Prague:20240120T140000
DTSTAMP:20260423T140354
CREATED:20231212T131100Z
LAST-MODIFIED:20231212T131100Z
UID:1274-1705741200-1705759200@tjslavojplzen.cz
SUMMARY:trénink MG /tělocvična/
DESCRIPTION:
URL:http://tjslavojplzen.cz/event/trenink-mg-telocvicna-2/
END:VEVENT
BEGIN:VEVENT
DTSTART;TZID=Europe/Prague:20240120T140000
DTEND;TZID=Europe/Prague:20240120T160000
DTSTAMP:20260423T140354
CREATED:20231201T065004Z
LAST-MODIFIED:20231201T065029Z
UID:1247-1705759200-1705766400@tjslavojplzen.cz
SUMMARY:Zouk academy - světelné meče /tělocvična/
DESCRIPTION:
URL:http://tjslavojplzen.cz/event/zouk-academy-svetelne-mece/
END:VEVENT
BEGIN:VEVENT
DTSTART;TZID=Europe/Prague:20240120T140000
DTEND;TZID=Europe/Prague:20240120T170000
DTSTAMP:20260423T140354
CREATED:20231212T131124Z
LAST-MODIFIED:20231212T131124Z
UID:1276-1705759200-1705770000@tjslavojplzen.cz
SUMMARY:trénink MG /hala/
DESCRIPTION:
URL:http://tjslavojplzen.cz/event/trenink-mg-hala/
END:VEVENT
BEGIN:VEVENT
DTSTART;TZID=Europe/Prague:20240127T100000
DTEND;TZID=Europe/Prague:20240127T160000
DTSTAMP:20260423T140354
CREATED:20231212T131316Z
LAST-MODIFIED:20240125T120557Z
UID:1278-1706349600-1706371200@tjslavojplzen.cz
SUMMARY:rezervace nácvik maturitního plesu /tělocvična/
DESCRIPTION:
URL:http://tjslavojplzen.cz/event/rezervace-nacvik-maturitniho-plesu-telocvicna/
END:VEVENT
BEGIN:VEVENT
DTSTART;TZID=Europe/Prague:20240127T140000
DTEND;TZID=Europe/Prague:20240129T170000
DTSTAMP:20260423T140354
CREATED:20240125T120758Z
LAST-MODIFIED:20240125T120955Z
UID:1335-1706364000-1706547600@tjslavojplzen.cz
SUMMARY:basketbal Bayar /hala/
DESCRIPTION:
URL:http://tjslavojplzen.cz/event/basket-bayar/
END:VEVENT
BEGIN:VEVENT
DTSTART;TZID=Europe/Prague:20240127T170000
DTEND;TZID=Europe/Prague:20240127T193000
DTSTAMP:20260423T140354
CREATED:20230906T053408Z
LAST-MODIFIED:20230906T053408Z
UID:1026-1706374800-1706383800@tjslavojplzen.cz
SUMMARY:Basketbal TJ Slavoj /hala/
DESCRIPTION:
URL:http://tjslavojplzen.cz/event/basketbal-tj-slavoj-hala-2/
END:VEVENT
BEGIN:VEVENT
DTSTART;TZID=Europe/Prague:20240128T100000
DTEND;TZID=Europe/Prague:20240128T160000
DTSTAMP:20260423T140354
CREATED:20231212T131330Z
LAST-MODIFIED:20240125T120730Z
UID:1280-1706436000-1706457600@tjslavojplzen.cz
SUMMARY:rezervace nácvik maturitního plesu /tělocvična/
DESCRIPTION:
URL:http://tjslavojplzen.cz/event/rezervace-nacvik-maturitniho-plesu-telocvicna-2/
END:VEVENT
END:VCALENDAR