BEGIN:VCALENDAR
VERSION:2.0
PRODID:-//TJ Slavoj Plzeň - ECPv6.15.20//NONSGML v1.0//EN
CALSCALE:GREGORIAN
METHOD:PUBLISH
X-WR-CALNAME:TJ Slavoj Plzeň
X-ORIGINAL-URL:http://tjslavojplzen.cz
X-WR-CALDESC:Akce na TJ Slavoj Plzeň
REFRESH-INTERVAL;VALUE=DURATION:PT1H
X-Robots-Tag:noindex
X-PUBLISHED-TTL:PT1H
BEGIN:VTIMEZONE
TZID:Europe/Prague
BEGIN:DAYLIGHT
TZOFFSETFROM:+0100
TZOFFSETTO:+0200
TZNAME:CEST
DTSTART:20220327T010000
END:DAYLIGHT
BEGIN:STANDARD
TZOFFSETFROM:+0200
TZOFFSETTO:+0100
TZNAME:CET
DTSTART:20221030T010000
END:STANDARD
BEGIN:DAYLIGHT
TZOFFSETFROM:+0100
TZOFFSETTO:+0200
TZNAME:CEST
DTSTART:20230326T010000
END:DAYLIGHT
BEGIN:STANDARD
TZOFFSETFROM:+0200
TZOFFSETTO:+0100
TZNAME:CET
DTSTART:20231029T010000
END:STANDARD
BEGIN:DAYLIGHT
TZOFFSETFROM:+0100
TZOFFSETTO:+0200
TZNAME:CEST
DTSTART:20240331T010000
END:DAYLIGHT
BEGIN:STANDARD
TZOFFSETFROM:+0200
TZOFFSETTO:+0100
TZNAME:CET
DTSTART:20241027T010000
END:STANDARD
END:VTIMEZONE
BEGIN:VEVENT
DTSTART;TZID=Europe/Prague:20231001T090000
DTEND;TZID=Europe/Prague:20231001T140000
DTSTAMP:20260423T183705
CREATED:20230919T094538Z
LAST-MODIFIED:20230919T094538Z
UID:1070-1696150800-1696168800@tjslavojplzen.cz
SUMMARY:Basketbal Grizzlies Plzeň
DESCRIPTION:
URL:http://tjslavojplzen.cz/event/basketbal-grizzlies-plzen-3/
END:VEVENT
BEGIN:VEVENT
DTSTART;TZID=Europe/Prague:20231007T170000
DTEND;TZID=Europe/Prague:20231007T193000
DTSTAMP:20260423T183705
CREATED:20230906T052703Z
LAST-MODIFIED:20230906T052703Z
UID:1023-1696698000-1696707000@tjslavojplzen.cz
SUMMARY:Basketbal TJ Slavoj /hala/
DESCRIPTION:
URL:http://tjslavojplzen.cz/event/basketbal-tj-slavoj-hala/
END:VEVENT
BEGIN:VEVENT
DTSTART;TZID=Europe/Prague:20231008T080000
DTEND;TZID=Europe/Prague:20231008T170000
DTSTAMP:20260423T183705
CREATED:20230306T103219Z
LAST-MODIFIED:20230306T103219Z
UID:232-1696752000-1696784400@tjslavojplzen.cz
SUMMARY:Narama - karate /hala/
DESCRIPTION:
URL:http://tjslavojplzen.cz/event/narama-karate-hala-3/
END:VEVENT
BEGIN:VEVENT
DTSTART;TZID=Europe/Prague:20231014T140000
DTEND;TZID=Europe/Prague:20231014T170000
DTSTAMP:20260423T183705
CREATED:20230919T094609Z
LAST-MODIFIED:20231005T120000Z
UID:1072-1697292000-1697302800@tjslavojplzen.cz
SUMMARY:Basketbal Grizzlies Plzeň  /hala/
DESCRIPTION:
URL:http://tjslavojplzen.cz/event/basketbal-grizzlies-plzen-4/
END:VEVENT
BEGIN:VEVENT
DTSTART;TZID=Europe/Prague:20231014T190000
DTEND;TZID=Europe/Prague:20231014T220000
DTSTAMP:20260423T183706
CREATED:20231010T090707Z
LAST-MODIFIED:20231010T090738Z
UID:1124-1697310000-1697320800@tjslavojplzen.cz
SUMMARY:Basketbal Calog /hala/
DESCRIPTION:
URL:http://tjslavojplzen.cz/event/basketbal-6/
END:VEVENT
BEGIN:VEVENT
DTSTART;TZID=Europe/Prague:20231015T090000
DTEND;TZID=Europe/Prague:20231015T120000
DTSTAMP:20260423T183706
CREATED:20230919T094630Z
LAST-MODIFIED:20230919T094802Z
UID:1074-1697360400-1697371200@tjslavojplzen.cz
SUMMARY:Basketbal Grizzlies Plzeň  /hala/
DESCRIPTION:
URL:http://tjslavojplzen.cz/event/basketbal-grizzlies-plzen-5/
END:VEVENT
BEGIN:VEVENT
DTSTART;TZID=Europe/Prague:20231021T080000
DTEND;TZID=Europe/Prague:20231021T170000
DTSTAMP:20260423T183706
CREATED:20230306T103252Z
LAST-MODIFIED:20230306T103252Z
UID:234-1697875200-1697907600@tjslavojplzen.cz
SUMMARY:Moderní gymnastika /hala + tělocvična/
DESCRIPTION:
URL:http://tjslavojplzen.cz/event/moderni-gymnastika-hala-telocvicna-2/
END:VEVENT
BEGIN:VEVENT
DTSTART;TZID=Europe/Prague:20231022T080000
DTEND;TZID=Europe/Prague:20231022T170000
DTSTAMP:20260423T183706
CREATED:20230322T065227Z
LAST-MODIFIED:20230828T091648Z
UID:518-1697961600-1697994000@tjslavojplzen.cz
SUMMARY:RG Cup /hala + tělocvična/
DESCRIPTION:Pohárová soutěž v moderní gymnastice ve společných skladbách a 2/3. Pořádá domácí oddíl MG.
URL:http://tjslavojplzen.cz/event/advent-cup/
END:VEVENT
END:VCALENDAR