BEGIN:VCALENDAR
VERSION:2.0
PRODID:-//TJ Slavoj Plzeň - ECPv6.15.20//NONSGML v1.0//EN
CALSCALE:GREGORIAN
METHOD:PUBLISH
X-ORIGINAL-URL:http://tjslavojplzen.cz
X-WR-CALDESC:Akce na TJ Slavoj Plzeň
REFRESH-INTERVAL;VALUE=DURATION:PT1H
X-Robots-Tag:noindex
X-PUBLISHED-TTL:PT1H
BEGIN:VTIMEZONE
TZID:Europe/Prague
BEGIN:DAYLIGHT
TZOFFSETFROM:+0100
TZOFFSETTO:+0200
TZNAME:CEST
DTSTART:20220327T010000
END:DAYLIGHT
BEGIN:STANDARD
TZOFFSETFROM:+0200
TZOFFSETTO:+0100
TZNAME:CET
DTSTART:20221030T010000
END:STANDARD
BEGIN:DAYLIGHT
TZOFFSETFROM:+0100
TZOFFSETTO:+0200
TZNAME:CEST
DTSTART:20230326T010000
END:DAYLIGHT
BEGIN:STANDARD
TZOFFSETFROM:+0200
TZOFFSETTO:+0100
TZNAME:CET
DTSTART:20231029T010000
END:STANDARD
BEGIN:DAYLIGHT
TZOFFSETFROM:+0100
TZOFFSETTO:+0200
TZNAME:CEST
DTSTART:20240331T010000
END:DAYLIGHT
BEGIN:STANDARD
TZOFFSETFROM:+0200
TZOFFSETTO:+0100
TZNAME:CET
DTSTART:20241027T010000
END:STANDARD
END:VTIMEZONE
BEGIN:VEVENT
DTSTART;VALUE=DATE:20230901
DTEND;VALUE=DATE:20230904
DTSTAMP:20260423T200354
CREATED:20230517T112705Z
LAST-MODIFIED:20230919T094826Z
UID:722-1693526400-1693785599@tjslavojplzen.cz
SUMMARY:Seminář Aikido  /hala/
DESCRIPTION:Mezinárodní seminář AIKIDO  – Ichiro Shishiya Shihan\, 7. Dan aikido
URL:http://tjslavojplzen.cz/event/seminar-aikido/
END:VEVENT
BEGIN:VEVENT
DTSTART;TZID=Europe/Prague:20230910T090000
DTEND;TZID=Europe/Prague:20230910T120000
DTSTAMP:20260423T200354
CREATED:20230906T052619Z
LAST-MODIFIED:20230906T052619Z
UID:1021-1694336400-1694347200@tjslavojplzen.cz
SUMMARY:basketbal /hala/
DESCRIPTION:
URL:http://tjslavojplzen.cz/event/basketbal-hala/
END:VEVENT
BEGIN:VEVENT
DTSTART;TZID=Europe/Prague:20230923T130000
DTEND;TZID=Europe/Prague:20230923T200000
DTSTAMP:20260423T200354
CREATED:20230905T075827Z
LAST-MODIFIED:20230906T052840Z
UID:1015-1695474000-1695499200@tjslavojplzen.cz
SUMMARY:Basketbal DBAK /hala/
DESCRIPTION:
URL:http://tjslavojplzen.cz/event/basketbal-5/
END:VEVENT
BEGIN:VEVENT
DTSTART;TZID=Europe/Prague:20230924T180000
DTEND;TZID=Europe/Prague:20230924T210000
DTSTAMP:20260423T200354
CREATED:20230919T094447Z
LAST-MODIFIED:20230919T094816Z
UID:1066-1695578400-1695589200@tjslavojplzen.cz
SUMMARY:Basketbal Grizzlies Plzeň  /hala/
DESCRIPTION:
URL:http://tjslavojplzen.cz/event/basketbal-grizzlies-plzen/
END:VEVENT
BEGIN:VEVENT
DTSTART;TZID=Europe/Prague:20230928T080000
DTEND;TZID=Europe/Prague:20230928T200000
DTSTAMP:20260423T200354
CREATED:20230920T053038Z
LAST-MODIFIED:20230920T053038Z
UID:1091-1695888000-1695931200@tjslavojplzen.cz
SUMMARY:Pohár mladých nadějí /kuželna/
DESCRIPTION:Tradiční pohár České kuželkářské asociace.
URL:http://tjslavojplzen.cz/event/pohar-mladych-nadeji-kuzelna/
END:VEVENT
BEGIN:VEVENT
DTSTART;TZID=Europe/Prague:20230930T090000
DTEND;TZID=Europe/Prague:20230930T140000
DTSTAMP:20260423T200354
CREATED:20230919T094516Z
LAST-MODIFIED:20230919T094812Z
UID:1068-1696064400-1696082400@tjslavojplzen.cz
SUMMARY:Basketbal Grizzlies Plzeň  /hala/
DESCRIPTION:
URL:http://tjslavojplzen.cz/event/basketbal-grizzlies-plzen-2/
END:VEVENT
END:VCALENDAR