BEGIN:VCALENDAR
VERSION:2.0
PRODID:-//TJ Slavoj Plzeň - ECPv6.15.20//NONSGML v1.0//EN
CALSCALE:GREGORIAN
METHOD:PUBLISH
X-ORIGINAL-URL:http://tjslavojplzen.cz
X-WR-CALDESC:Akce na TJ Slavoj Plzeň
REFRESH-INTERVAL;VALUE=DURATION:PT1H
X-Robots-Tag:noindex
X-PUBLISHED-TTL:PT1H
BEGIN:VTIMEZONE
TZID:Europe/Prague
BEGIN:DAYLIGHT
TZOFFSETFROM:+0100
TZOFFSETTO:+0200
TZNAME:CEST
DTSTART:20240331T010000
END:DAYLIGHT
BEGIN:STANDARD
TZOFFSETFROM:+0200
TZOFFSETTO:+0100
TZNAME:CET
DTSTART:20241027T010000
END:STANDARD
BEGIN:DAYLIGHT
TZOFFSETFROM:+0100
TZOFFSETTO:+0200
TZNAME:CEST
DTSTART:20250330T010000
END:DAYLIGHT
BEGIN:STANDARD
TZOFFSETFROM:+0200
TZOFFSETTO:+0100
TZNAME:CET
DTSTART:20251026T010000
END:STANDARD
BEGIN:DAYLIGHT
TZOFFSETFROM:+0100
TZOFFSETTO:+0200
TZNAME:CEST
DTSTART:20260329T010000
END:DAYLIGHT
BEGIN:STANDARD
TZOFFSETFROM:+0200
TZOFFSETTO:+0100
TZNAME:CET
DTSTART:20261025T010000
END:STANDARD
END:VTIMEZONE
BEGIN:VEVENT
DTSTART;TZID=Europe/Prague:20251213T080000
DTEND;TZID=Europe/Prague:20251213T170000
DTSTAMP:20260422T030107
CREATED:20250107T095642Z
LAST-MODIFIED:20250929T133218Z
UID:1929-1765612800-1765645200@tjslavojplzen.cz
SUMMARY:Grand Prix Slavoj Plzeň 1899 - vzpírání /hala/
DESCRIPTION:
URL:http://tjslavojplzen.cz/event/grand-prix-slavoj-plzen-1899-vzpirani/
END:VEVENT
BEGIN:VEVENT
DTSTART;TZID=Europe/Prague:20251213T093000
DTEND;TZID=Europe/Prague:20251213T173000
DTSTAMP:20260422T030107
CREATED:20251201T130531Z
LAST-MODIFIED:20251201T130531Z
UID:2475-1765618200-1765647000@tjslavojplzen.cz
SUMMARY:Moderní gymnastika - individuální / tělocvična/
DESCRIPTION:
URL:http://tjslavojplzen.cz/event/moderni-gymnastika-individualni-telocvicna/
END:VEVENT
END:VCALENDAR