BEGIN:VCALENDAR
VERSION:2.0
PRODID:-//TJ Slavoj Plzeň - ECPv6.15.20//NONSGML v1.0//EN
CALSCALE:GREGORIAN
METHOD:PUBLISH
X-WR-CALNAME:TJ Slavoj Plzeň
X-ORIGINAL-URL:http://tjslavojplzen.cz
X-WR-CALDESC:Akce na TJ Slavoj Plzeň
REFRESH-INTERVAL;VALUE=DURATION:PT1H
X-Robots-Tag:noindex
X-PUBLISHED-TTL:PT1H
BEGIN:VTIMEZONE
TZID:Europe/Prague
BEGIN:DAYLIGHT
TZOFFSETFROM:+0100
TZOFFSETTO:+0200
TZNAME:CEST
DTSTART:20220327T010000
END:DAYLIGHT
BEGIN:STANDARD
TZOFFSETFROM:+0200
TZOFFSETTO:+0100
TZNAME:CET
DTSTART:20221030T010000
END:STANDARD
BEGIN:DAYLIGHT
TZOFFSETFROM:+0100
TZOFFSETTO:+0200
TZNAME:CEST
DTSTART:20230326T010000
END:DAYLIGHT
BEGIN:STANDARD
TZOFFSETFROM:+0200
TZOFFSETTO:+0100
TZNAME:CET
DTSTART:20231029T010000
END:STANDARD
BEGIN:DAYLIGHT
TZOFFSETFROM:+0100
TZOFFSETTO:+0200
TZNAME:CEST
DTSTART:20240331T010000
END:DAYLIGHT
BEGIN:STANDARD
TZOFFSETFROM:+0200
TZOFFSETTO:+0100
TZNAME:CET
DTSTART:20241027T010000
END:STANDARD
END:VTIMEZONE
BEGIN:VEVENT
DTSTART;TZID=Europe/Prague:20231014T140000
DTEND;TZID=Europe/Prague:20231014T170000
DTSTAMP:20260423T200303
CREATED:20230919T094609Z
LAST-MODIFIED:20231005T120000Z
UID:1072-1697292000-1697302800@tjslavojplzen.cz
SUMMARY:Basketbal Grizzlies Plzeň  /hala/
DESCRIPTION:
URL:http://tjslavojplzen.cz/event/basketbal-grizzlies-plzen-4/
END:VEVENT
BEGIN:VEVENT
DTSTART;TZID=Europe/Prague:20231014T190000
DTEND;TZID=Europe/Prague:20231014T220000
DTSTAMP:20260423T200303
CREATED:20231010T090707Z
LAST-MODIFIED:20231010T090738Z
UID:1124-1697310000-1697320800@tjslavojplzen.cz
SUMMARY:Basketbal Calog /hala/
DESCRIPTION:
URL:http://tjslavojplzen.cz/event/basketbal-6/
END:VEVENT
END:VCALENDAR