BEGIN:VCALENDAR
VERSION:2.0
PRODID:-//TJ Slavoj Plzeň - ECPv6.15.20//NONSGML v1.0//EN
CALSCALE:GREGORIAN
METHOD:PUBLISH
X-WR-CALNAME:TJ Slavoj Plzeň
X-ORIGINAL-URL:http://tjslavojplzen.cz
X-WR-CALDESC:Akce na TJ Slavoj Plzeň
REFRESH-INTERVAL;VALUE=DURATION:PT1H
X-Robots-Tag:noindex
X-PUBLISHED-TTL:PT1H
BEGIN:VTIMEZONE
TZID:Europe/Prague
BEGIN:DAYLIGHT
TZOFFSETFROM:+0100
TZOFFSETTO:+0200
TZNAME:CEST
DTSTART:20220327T010000
END:DAYLIGHT
BEGIN:STANDARD
TZOFFSETFROM:+0200
TZOFFSETTO:+0100
TZNAME:CET
DTSTART:20221030T010000
END:STANDARD
BEGIN:DAYLIGHT
TZOFFSETFROM:+0100
TZOFFSETTO:+0200
TZNAME:CEST
DTSTART:20230326T010000
END:DAYLIGHT
BEGIN:STANDARD
TZOFFSETFROM:+0200
TZOFFSETTO:+0100
TZNAME:CET
DTSTART:20231029T010000
END:STANDARD
BEGIN:DAYLIGHT
TZOFFSETFROM:+0100
TZOFFSETTO:+0200
TZNAME:CEST
DTSTART:20240331T010000
END:DAYLIGHT
BEGIN:STANDARD
TZOFFSETFROM:+0200
TZOFFSETTO:+0100
TZNAME:CET
DTSTART:20241027T010000
END:STANDARD
END:VTIMEZONE
BEGIN:VEVENT
DTSTART;TZID=Europe/Prague:20230513T080000
DTEND;TZID=Europe/Prague:20230513T190000
DTSTAMP:20260424T042824
CREATED:20230323T100830Z
LAST-MODIFIED:20230323T100830Z
UID:511-1683964800-1684004400@tjslavojplzen.cz
SUMMARY:Mistrovství republiky - seniorky /kuželna/
DESCRIPTION:
URL:http://tjslavojplzen.cz/event/mistrovstvi-republiky-seniorky-kuzelna/
END:VEVENT
BEGIN:VEVENT
DTSTART;TZID=Europe/Prague:20230513T090000
DTEND;TZID=Europe/Prague:20230513T173000
DTSTAMP:20260424T042824
CREATED:20230306T102849Z
LAST-MODIFIED:20230509T064002Z
UID:218-1683968400-1683999000@tjslavojplzen.cz
SUMMARY:Župa sokolská /hala/
DESCRIPTION:Akademie ke 160. výročí založení Sokola v Plzni.
URL:http://tjslavojplzen.cz/event/zupa-sokolska-hala/
END:VEVENT
END:VCALENDAR