BEGIN:VCALENDAR
VERSION:2.0
PRODID:-//TJ Slavoj Plzeň - ECPv6.15.20//NONSGML v1.0//EN
CALSCALE:GREGORIAN
METHOD:PUBLISH
X-ORIGINAL-URL:http://tjslavojplzen.cz
X-WR-CALDESC:Akce na TJ Slavoj Plzeň
REFRESH-INTERVAL;VALUE=DURATION:PT1H
X-Robots-Tag:noindex
X-PUBLISHED-TTL:PT1H
BEGIN:VTIMEZONE
TZID:Europe/Prague
BEGIN:DAYLIGHT
TZOFFSETFROM:+0100
TZOFFSETTO:+0200
TZNAME:CEST
DTSTART:20220327T010000
END:DAYLIGHT
BEGIN:STANDARD
TZOFFSETFROM:+0200
TZOFFSETTO:+0100
TZNAME:CET
DTSTART:20221030T010000
END:STANDARD
BEGIN:DAYLIGHT
TZOFFSETFROM:+0100
TZOFFSETTO:+0200
TZNAME:CEST
DTSTART:20230326T010000
END:DAYLIGHT
BEGIN:STANDARD
TZOFFSETFROM:+0200
TZOFFSETTO:+0100
TZNAME:CET
DTSTART:20231029T010000
END:STANDARD
BEGIN:DAYLIGHT
TZOFFSETFROM:+0100
TZOFFSETTO:+0200
TZNAME:CEST
DTSTART:20240331T010000
END:DAYLIGHT
BEGIN:STANDARD
TZOFFSETFROM:+0200
TZOFFSETTO:+0100
TZNAME:CET
DTSTART:20241027T010000
END:STANDARD
END:VTIMEZONE
BEGIN:VEVENT
DTSTART;TZID=Europe/Prague:20230304T080000
DTEND;TZID=Europe/Prague:20230304T100000
DTSTAMP:20260424T074035
CREATED:20230303T104850Z
LAST-MODIFIED:20230303T105455Z
UID:159-1677916800-1677924000@tjslavojplzen.cz
SUMMARY:Basketbal
DESCRIPTION:soukromý trénink
URL:http://tjslavojplzen.cz/event/basketbal/
END:VEVENT
BEGIN:VEVENT
DTSTART;TZID=Europe/Prague:20230304T110000
DTEND;TZID=Europe/Prague:20230304T140000
DTSTAMP:20260424T074035
CREATED:20230303T104517Z
LAST-MODIFIED:20230303T105721Z
UID:161-1677927600-1677938400@tjslavojplzen.cz
SUMMARY:Basketbal
DESCRIPTION:soukromý trénink
URL:http://tjslavojplzen.cz/event/basketbal-2/
END:VEVENT
BEGIN:VEVENT
DTSTART;TZID=Europe/Prague:20230304T140000
DTEND;TZID=Europe/Prague:20230304T200000
DTSTAMP:20260424T074035
CREATED:20230303T105855Z
LAST-MODIFIED:20230303T110152Z
UID:46-1677938400-1677960000@tjslavojplzen.cz
SUMMARY:Dance Nation
DESCRIPTION:Taneční soutěž. \n 
URL:http://tjslavojplzen.cz/event/dance-nation/
END:VEVENT
END:VCALENDAR